BEGIN:VCALENDAR
VERSION:2.0
PRODID:-//Geldleben - ECPv6.15.18//NONSGML v1.0//EN
CALSCALE:GREGORIAN
METHOD:PUBLISH
X-WR-CALNAME:Geldleben
X-ORIGINAL-URL:https://geldleben.at
X-WR-CALDESC:Veranstaltungen für Geldleben
REFRESH-INTERVAL;VALUE=DURATION:PT1H
X-Robots-Tag:noindex
X-PUBLISHED-TTL:PT1H
BEGIN:VTIMEZONE
TZID:Europe/Berlin
BEGIN:DAYLIGHT
TZOFFSETFROM:+0100
TZOFFSETTO:+0200
TZNAME:CEST
DTSTART:20220327T010000
END:DAYLIGHT
BEGIN:STANDARD
TZOFFSETFROM:+0200
TZOFFSETTO:+0100
TZNAME:CET
DTSTART:20221030T010000
END:STANDARD
BEGIN:DAYLIGHT
TZOFFSETFROM:+0100
TZOFFSETTO:+0200
TZNAME:CEST
DTSTART:20230326T010000
END:DAYLIGHT
BEGIN:STANDARD
TZOFFSETFROM:+0200
TZOFFSETTO:+0100
TZNAME:CET
DTSTART:20231029T010000
END:STANDARD
BEGIN:DAYLIGHT
TZOFFSETFROM:+0100
TZOFFSETTO:+0200
TZNAME:CEST
DTSTART:20240331T010000
END:DAYLIGHT
BEGIN:STANDARD
TZOFFSETFROM:+0200
TZOFFSETTO:+0100
TZNAME:CET
DTSTART:20241027T010000
END:STANDARD
END:VTIMEZONE
BEGIN:VEVENT
DTSTART;TZID=Europe/Berlin:20231002T170000
DTEND;TZID=Europe/Berlin:20231002T190000
DTSTAMP:20260422T100058
CREATED:20230829T162317Z
LAST-MODIFIED:20230922T100156Z
UID:1113-1696266000-1696273200@geldleben.at
SUMMARY:Das liebe Geld
DESCRIPTION:Geld ist weltweit gesehen der größte Stressfaktor im Leben der meisten Menschen. \nFür viele bedeutet das eine starke Belastung ein striktes Haushalten mit den eigenen Ressourcen und häufige Sorgen oder Zukunftsängste. Wir bieten hier einen sicheren Rahmen\, sich genau darüber mit anderen auszutauschen\, denen es ähnlich geht\, sich dabei gegenseitig zu stärken und gleichzeitig von den Erfahrungen und Lösungsansätzen anderer zu profitieren. \nDieses Angebot richtet sich an alle\, die das Thema Geld mit Stress und Sorgen verbinden.
URL:https://geldleben.at/workshop/das-liebe-geld/
LOCATION:Standort Wien\, Nußdorfer Straße 27\, Wien\, 1090
END:VEVENT
END:VCALENDAR