BEGIN:VCALENDAR
VERSION:2.0
PRODID:-//Geldleben - ECPv6.15.18//NONSGML v1.0//EN
CALSCALE:GREGORIAN
METHOD:PUBLISH
X-ORIGINAL-URL:https://geldleben.at
X-WR-CALDESC:Veranstaltungen für Geldleben
REFRESH-INTERVAL;VALUE=DURATION:PT1H
X-Robots-Tag:noindex
X-PUBLISHED-TTL:PT1H
BEGIN:VTIMEZONE
TZID:Europe/Berlin
BEGIN:DAYLIGHT
TZOFFSETFROM:+0100
TZOFFSETTO:+0200
TZNAME:CEST
DTSTART:20220327T010000
END:DAYLIGHT
BEGIN:STANDARD
TZOFFSETFROM:+0200
TZOFFSETTO:+0100
TZNAME:CET
DTSTART:20221030T010000
END:STANDARD
BEGIN:DAYLIGHT
TZOFFSETFROM:+0100
TZOFFSETTO:+0200
TZNAME:CEST
DTSTART:20230326T010000
END:DAYLIGHT
BEGIN:STANDARD
TZOFFSETFROM:+0200
TZOFFSETTO:+0100
TZNAME:CET
DTSTART:20231029T010000
END:STANDARD
BEGIN:DAYLIGHT
TZOFFSETFROM:+0100
TZOFFSETTO:+0200
TZNAME:CEST
DTSTART:20240331T010000
END:DAYLIGHT
BEGIN:STANDARD
TZOFFSETFROM:+0200
TZOFFSETTO:+0100
TZNAME:CET
DTSTART:20241027T010000
END:STANDARD
END:VTIMEZONE
BEGIN:VEVENT
DTSTART;TZID=Europe/Berlin:20231114T143000
DTEND;TZID=Europe/Berlin:20231114T163000
DTSTAMP:20260422T084427
CREATED:20231024T075011Z
LAST-MODIFIED:20231024T075011Z
UID:2140-1699972200-1699979400@geldleben.at
SUMMARY:Spielenachmittag SCHOTTERBANDE
DESCRIPTION:Die SCHOTTERBANDE ist DAS Spiel für den Einstieg ins Geldleben. Das kooperative Gesellschaftsspiel für Kinder im Alter zwischen 6 und 10 Jahren fesselt mit einer spannenden Superheld*innen-Geschichte und vermittelt ganz nebenbei wichtige Fertigkeiten im Umgang mit Geld. Ergänzt wird das Spiel durch ein Begleitheft für Erwachsene mit grundlegenden Informationen zu Finanzkompetenz sowie jeder Menge Ideen für weiterführende Aktivitäten zum Thema Geld.
URL:https://geldleben.at/workshop/spielenachmittag-schotterbande/
LOCATION:Standort St. Pölten\, Schreinergasse 11\, St. Pölten\, 3100
ORGANIZER;CN="Bildung & Beratung Geldleben St. P%C3%B6lten":MAILTO:info@geldleben.at
END:VEVENT
END:VCALENDAR