BEGIN:VCALENDAR
VERSION:2.0
PRODID:-//Geldleben - ECPv6.15.18//NONSGML v1.0//EN
CALSCALE:GREGORIAN
METHOD:PUBLISH
X-WR-CALNAME:Geldleben
X-ORIGINAL-URL:https://geldleben.at
X-WR-CALDESC:Veranstaltungen für Geldleben
REFRESH-INTERVAL;VALUE=DURATION:PT1H
X-Robots-Tag:noindex
X-PUBLISHED-TTL:PT1H
BEGIN:VTIMEZONE
TZID:Europe/Berlin
BEGIN:DAYLIGHT
TZOFFSETFROM:+0100
TZOFFSETTO:+0200
TZNAME:CEST
DTSTART:20220327T010000
END:DAYLIGHT
BEGIN:STANDARD
TZOFFSETFROM:+0200
TZOFFSETTO:+0100
TZNAME:CET
DTSTART:20221030T010000
END:STANDARD
BEGIN:DAYLIGHT
TZOFFSETFROM:+0100
TZOFFSETTO:+0200
TZNAME:CEST
DTSTART:20230326T010000
END:DAYLIGHT
BEGIN:STANDARD
TZOFFSETFROM:+0200
TZOFFSETTO:+0100
TZNAME:CET
DTSTART:20231029T010000
END:STANDARD
BEGIN:DAYLIGHT
TZOFFSETFROM:+0100
TZOFFSETTO:+0200
TZNAME:CEST
DTSTART:20240331T010000
END:DAYLIGHT
BEGIN:STANDARD
TZOFFSETFROM:+0200
TZOFFSETTO:+0100
TZNAME:CET
DTSTART:20241027T010000
END:STANDARD
END:VTIMEZONE
BEGIN:VEVENT
DTSTART;TZID=Europe/Berlin:20231121T140000
DTEND;TZID=Europe/Berlin:20231121T160000
DTSTAMP:20260422T100143
CREATED:20231024T075404Z
LAST-MODIFIED:20231120T101924Z
UID:2143-1700575200-1700582400@geldleben.at
SUMMARY:Was kostet das Leben?(für Jugendliche)
DESCRIPTION:Zum ersten Mal eigenes Geld zu verdienen und nicht mehr nur aufs Taschengeld angewiesen zu sein – das fühlt sich richtig gut an. Leider vergeht das gute Gefühl oft\, wenn man merkt\, wie teuer das Leben eigentlich ist. Das kann ganz schön frustrierend sein\, wenn man sich eigentlich viele coole Dinge kaufen möchte\, aber das Geld dafür nicht immer ausreicht.\nDeswegen beschäftigen wir uns in diesem Workshop mit den Fragen:\n\nWo kommt das Geld her und wo fließt es hin?\nWas kostet das Leben? Was kommt auf mich zu\, wenn ich nicht mehr zuhause wohne?\n\nDer Workshop richtet sich an Jugendliche\, die in naher Zukunft ihr eigenes Geld verdienen werden oder einfach wissen möchten\, was das Leben so kostet.
URL:https://geldleben.at/workshop/finanzbildung-basics-fuer-jugendliche/
LOCATION:Standort St. Pölten\, Schreinergasse 11\, St. Pölten\, 3100
ORGANIZER;CN="Bildung & Beratung Geldleben St. P%C3%B6lten":MAILTO:info@geldleben.at
END:VEVENT
END:VCALENDAR