BEGIN:VCALENDAR
VERSION:2.0
PRODID:-//Geldleben - ECPv6.15.18//NONSGML v1.0//EN
CALSCALE:GREGORIAN
METHOD:PUBLISH
X-ORIGINAL-URL:https://geldleben.at
X-WR-CALDESC:Veranstaltungen für Geldleben
REFRESH-INTERVAL;VALUE=DURATION:PT1H
X-Robots-Tag:noindex
X-PUBLISHED-TTL:PT1H
BEGIN:VTIMEZONE
TZID:Europe/Berlin
BEGIN:DAYLIGHT
TZOFFSETFROM:+0100
TZOFFSETTO:+0200
TZNAME:CEST
DTSTART:20230326T010000
END:DAYLIGHT
BEGIN:STANDARD
TZOFFSETFROM:+0200
TZOFFSETTO:+0100
TZNAME:CET
DTSTART:20231029T010000
END:STANDARD
BEGIN:DAYLIGHT
TZOFFSETFROM:+0100
TZOFFSETTO:+0200
TZNAME:CEST
DTSTART:20240331T010000
END:DAYLIGHT
BEGIN:STANDARD
TZOFFSETFROM:+0200
TZOFFSETTO:+0100
TZNAME:CET
DTSTART:20241027T010000
END:STANDARD
BEGIN:DAYLIGHT
TZOFFSETFROM:+0100
TZOFFSETTO:+0200
TZNAME:CEST
DTSTART:20250330T010000
END:DAYLIGHT
BEGIN:STANDARD
TZOFFSETFROM:+0200
TZOFFSETTO:+0100
TZNAME:CET
DTSTART:20251026T010000
END:STANDARD
END:VTIMEZONE
BEGIN:VEVENT
DTSTART;TZID=Europe/Berlin:20240118T170000
DTEND;TZID=Europe/Berlin:20240118T190000
DTSTAMP:20260422T054425
CREATED:20231204T084907Z
LAST-MODIFIED:20231204T084907Z
UID:2538-1705597200-1705604400@geldleben.at
SUMMARY:Berufseinstieg & Budget: Praxisnaher Workshop für junge Erwachsene
DESCRIPTION:Der erste Job\, das erste Gehalt – ein großer Schritt zur finanziellen Unabhängigkeit\, aber auch eine große Herausforderung. Wie viel Lohn/Gehalt steht mir eigentlich zu? Was bedeutet brutto und netto? Welche Beschäftigungsformen gibt es eigentlich und welche passt zu mir und meinen Vorstellungen? Diesen Fragen gehen wir während dieses Workshops für junge Menschen\, die kurz vor dem Berufseinstieg stehen\, auf den Grund.
URL:https://geldleben.at/workshop/berufseinstieg-budget-praxisnaher-workshop-fuer-junge-erwachsene/
LOCATION:Standort Wien\, Nußdorfer Straße 27\, Wien\, 1090
END:VEVENT
END:VCALENDAR