BEGIN:VCALENDAR
VERSION:2.0
PRODID:-//Geldleben - ECPv6.15.18//NONSGML v1.0//EN
CALSCALE:GREGORIAN
METHOD:PUBLISH
X-ORIGINAL-URL:https://geldleben.at
X-WR-CALDESC:Veranstaltungen für Geldleben
REFRESH-INTERVAL;VALUE=DURATION:PT1H
X-Robots-Tag:noindex
X-PUBLISHED-TTL:PT1H
BEGIN:VTIMEZONE
TZID:Europe/Berlin
BEGIN:DAYLIGHT
TZOFFSETFROM:+0100
TZOFFSETTO:+0200
TZNAME:CEST
DTSTART:20230326T010000
END:DAYLIGHT
BEGIN:STANDARD
TZOFFSETFROM:+0200
TZOFFSETTO:+0100
TZNAME:CET
DTSTART:20231029T010000
END:STANDARD
BEGIN:DAYLIGHT
TZOFFSETFROM:+0100
TZOFFSETTO:+0200
TZNAME:CEST
DTSTART:20240331T010000
END:DAYLIGHT
BEGIN:STANDARD
TZOFFSETFROM:+0200
TZOFFSETTO:+0100
TZNAME:CET
DTSTART:20241027T010000
END:STANDARD
BEGIN:DAYLIGHT
TZOFFSETFROM:+0100
TZOFFSETTO:+0200
TZNAME:CEST
DTSTART:20250330T010000
END:DAYLIGHT
BEGIN:STANDARD
TZOFFSETFROM:+0200
TZOFFSETTO:+0100
TZNAME:CET
DTSTART:20251026T010000
END:STANDARD
END:VTIMEZONE
BEGIN:VEVENT
DTSTART;TZID=Europe/Berlin:20240122T160000
DTEND;TZID=Europe/Berlin:20240122T180000
DTSTAMP:20260422T054551
CREATED:20231025T110754Z
LAST-MODIFIED:20231207T090229Z
UID:2260-1705939200-1705946400@geldleben.at
SUMMARY:Tag der offenen Tür Wien
DESCRIPTION:Wir stellen uns vor und beantworten allgemeine und individuelle Fragen!\nWer sind wir? Was machen wir? Warum gibt es uns? Wer kann mit welchen Themen zu uns kommen? Herzlich Willkommen!
URL:https://geldleben.at/workshop/tag-der-offenen-tuer-wien/
LOCATION:Standort Wien\, Nußdorfer Straße 27\, Wien\, 1090
END:VEVENT
END:VCALENDAR