BEGIN:VCALENDAR
VERSION:2.0
PRODID:-//Geldleben - ECPv6.15.18//NONSGML v1.0//EN
CALSCALE:GREGORIAN
METHOD:PUBLISH
X-ORIGINAL-URL:https://geldleben.at
X-WR-CALDESC:Veranstaltungen für Geldleben
REFRESH-INTERVAL;VALUE=DURATION:PT1H
X-Robots-Tag:noindex
X-PUBLISHED-TTL:PT1H
BEGIN:VTIMEZONE
TZID:Europe/Berlin
BEGIN:DAYLIGHT
TZOFFSETFROM:+0100
TZOFFSETTO:+0200
TZNAME:CEST
DTSTART:20230326T010000
END:DAYLIGHT
BEGIN:STANDARD
TZOFFSETFROM:+0200
TZOFFSETTO:+0100
TZNAME:CET
DTSTART:20231029T010000
END:STANDARD
BEGIN:DAYLIGHT
TZOFFSETFROM:+0100
TZOFFSETTO:+0200
TZNAME:CEST
DTSTART:20240331T010000
END:DAYLIGHT
BEGIN:STANDARD
TZOFFSETFROM:+0200
TZOFFSETTO:+0100
TZNAME:CET
DTSTART:20241027T010000
END:STANDARD
BEGIN:DAYLIGHT
TZOFFSETFROM:+0100
TZOFFSETTO:+0200
TZNAME:CEST
DTSTART:20250330T010000
END:DAYLIGHT
BEGIN:STANDARD
TZOFFSETFROM:+0200
TZOFFSETTO:+0100
TZNAME:CET
DTSTART:20251026T010000
END:STANDARD
END:VTIMEZONE
BEGIN:VEVENT
DTSTART;TZID=Europe/Berlin:20240319T170000
DTEND;TZID=Europe/Berlin:20240319T190000
DTSTAMP:20260422T041742
CREATED:20240221T140045Z
LAST-MODIFIED:20240222T101907Z
UID:2926-1710867600-1710874800@geldleben.at
SUMMARY:Ich kaufe\, also bin ich? - Was beeinflusst mein Kaufverhalten und wie vermeide ich Geldfallen?
DESCRIPTION:Jeden Tag treffen wir zahllose Entscheidungen. Viele davon haben mit Geld zu tun. Bei diesen Entscheidungen werden wir von verschiedenen Dingen beeinflusst: Werbung\, Social Media und unser soziales Umfeld sind nur ein paar Beispiele dafür. Dazu kommen unsere Gewohnheiten und natürlich unsere eigenen Werte und Wünsche. \nZiel dieses Workshops ist es\, mehr Bewusstsein für äußere Einflüsse und unsere Gewohnheiten in Bezug auf Kaufentscheidungen zu entwickeln und dadurch bessere\, überlegte (Kauf-)Entscheidungen treffen zu können.
URL:https://geldleben.at/workshop/ich-kaufe-also-bin-ich-was-beeinflusst-mein-kaufverhalten-und-wie-vermeide-ich-geldfallen-4/
LOCATION:Standort Wien\, Nußdorfer Straße 27\, Wien\, 1090
END:VEVENT
END:VCALENDAR