BEGIN:VCALENDAR
VERSION:2.0
PRODID:-//Geldleben - ECPv6.15.18//NONSGML v1.0//EN
CALSCALE:GREGORIAN
METHOD:PUBLISH
X-WR-CALNAME:Geldleben
X-ORIGINAL-URL:https://geldleben.at
X-WR-CALDESC:Veranstaltungen für Geldleben
REFRESH-INTERVAL;VALUE=DURATION:PT1H
X-Robots-Tag:noindex
X-PUBLISHED-TTL:PT1H
BEGIN:VTIMEZONE
TZID:Europe/Berlin
BEGIN:DAYLIGHT
TZOFFSETFROM:+0100
TZOFFSETTO:+0200
TZNAME:CEST
DTSTART:20230326T010000
END:DAYLIGHT
BEGIN:STANDARD
TZOFFSETFROM:+0200
TZOFFSETTO:+0100
TZNAME:CET
DTSTART:20231029T010000
END:STANDARD
BEGIN:DAYLIGHT
TZOFFSETFROM:+0100
TZOFFSETTO:+0200
TZNAME:CEST
DTSTART:20240331T010000
END:DAYLIGHT
BEGIN:STANDARD
TZOFFSETFROM:+0200
TZOFFSETTO:+0100
TZNAME:CET
DTSTART:20241027T010000
END:STANDARD
BEGIN:DAYLIGHT
TZOFFSETFROM:+0100
TZOFFSETTO:+0200
TZNAME:CEST
DTSTART:20250330T010000
END:DAYLIGHT
BEGIN:STANDARD
TZOFFSETFROM:+0200
TZOFFSETTO:+0100
TZNAME:CET
DTSTART:20251026T010000
END:STANDARD
END:VTIMEZONE
BEGIN:VEVENT
DTSTART;TZID=Europe/Berlin:20240610T100000
DTEND;TZID=Europe/Berlin:20240610T140000
DTSTAMP:20260421T213534
CREATED:20240508T084427Z
LAST-MODIFIED:20240516T075752Z
UID:3384-1718013600-1718028000@geldleben.at
SUMMARY:Offener Workshop und Beratung rund ums Thema Geld
DESCRIPTION:Wie komme ich mit meinem Geld besser aus? Wie erreiche ich finanzielle Ziele? Wie mache ich mich in Zukunft finanziell unabhängiger? \nGeld spielt eine große Rolle in unserem Leben – leider oft auf nicht so angenehme Weise. Wir helfen dabei\, das Bewusstsein für Geld zu schärfen und vermitteln die nötigen Grundlagen\, um gute finanzielle Entscheidungen treffen zu können: Für mehr finanzielle Selbstbestimmung und Unabhängigkeit. \nEin Einstieg ist bis spätestens 13.30 Uhr jederzeit möglich\, die Aufenthaltsdauer ist individuell. \nWir bitten um Anmeldung. \nZielgruppe: Erwachsene und Jugendliche \nDieser Workshop findet im Rahmen der Wiener Wochen für Beruf und Weiterbildung statt.
URL:https://geldleben.at/workshop/offener-workshop-und-beratung-rund-ums-thema-geld-2/
LOCATION:Standort Wien\, Nußdorfer Straße 27\, Wien\, 1090
END:VEVENT
END:VCALENDAR