BEGIN:VCALENDAR
VERSION:2.0
PRODID:-//Geldleben - ECPv6.15.18//NONSGML v1.0//EN
CALSCALE:GREGORIAN
METHOD:PUBLISH
X-ORIGINAL-URL:https://geldleben.at
X-WR-CALDESC:Veranstaltungen für Geldleben
REFRESH-INTERVAL;VALUE=DURATION:PT1H
X-Robots-Tag:noindex
X-PUBLISHED-TTL:PT1H
BEGIN:VTIMEZONE
TZID:Europe/Berlin
BEGIN:DAYLIGHT
TZOFFSETFROM:+0100
TZOFFSETTO:+0200
TZNAME:CEST
DTSTART:20230326T010000
END:DAYLIGHT
BEGIN:STANDARD
TZOFFSETFROM:+0200
TZOFFSETTO:+0100
TZNAME:CET
DTSTART:20231029T010000
END:STANDARD
BEGIN:DAYLIGHT
TZOFFSETFROM:+0100
TZOFFSETTO:+0200
TZNAME:CEST
DTSTART:20240331T010000
END:DAYLIGHT
BEGIN:STANDARD
TZOFFSETFROM:+0200
TZOFFSETTO:+0100
TZNAME:CET
DTSTART:20241027T010000
END:STANDARD
BEGIN:DAYLIGHT
TZOFFSETFROM:+0100
TZOFFSETTO:+0200
TZNAME:CEST
DTSTART:20250330T010000
END:DAYLIGHT
BEGIN:STANDARD
TZOFFSETFROM:+0200
TZOFFSETTO:+0100
TZNAME:CET
DTSTART:20251026T010000
END:STANDARD
END:VTIMEZONE
BEGIN:VEVENT
DTSTART;TZID=Europe/Berlin:20240618T080000
DTEND;TZID=Europe/Berlin:20240618T133000
DTSTAMP:20260421T213752
CREATED:20240411T131638Z
LAST-MODIFIED:20240611T141219Z
UID:3055-1718697600-1718717400@geldleben.at
SUMMARY:Geldleben bei "Jugend im Park"
DESCRIPTION:Ziel von Jugend im Park ist es\, jungen Menschen Angebote und soziale Leistungen in ihrem Umfeld aufzuzeigen. Dazu lädt der Verein Impulse Krems jedes Jahr in der vorletzten Schulwoche verschiedene Einrichtungen ein\, sich und ihre Angebote niederschwellig vorzustellen und mit den Besucher*innen bei gemeinsamen Aktivitäten in Kontakt zu kommen. \nFür Schulklassen und Jugendgruppen werden kostenlose Workshops (ca. 1-2 Stunden) rund um kreative und sportliche Themen wie Graffiti\, Mosaik\, Trommeln\, Taekwondo\, Capoeira\, erlebnispädagogisch Gruppen stärken\, Parcour- und Freerunning\, praktische Berufsorientierung\, Money checker etc. geboten. Bildung & Beratung Geldleben ist ebenfalls vor Ort! \nZudem wartet auf die Rund 700 Besucher*innen ein vielfältiges Rahmenprogramm mit zahlreichen Action- und Freizeitangeboten: Kistenklettern\, Parcour und Freerunning\, Bubblesoccer\, Basketball\, Riesenseifenblasen\, Geschicklichkeits- und erlebnispädagogische Stationen\, Slackline\, Jonglieren\, Wundenschminken\, Tattoos & Bodypainting\, im Jugendzentrum: Saftbar\, Chili\, Wuzzler\, Airhockey\, Billiard\, Asia-Corner\, Mangas\, Styling und Make-Up\, Kreatives\, Gesellschaftsspiele u.v.m.
URL:https://geldleben.at/workshop/geldleben-on-tour-jugendmesse-im-park/
LOCATION:Jugendmesse in Krems\, Krems\, Österreich
ATTACH;FMTTYPE=image/png:https://geldleben.at/wp-content/uploads/2024/05/3.png
ORGANIZER;CN="Verein Impulse Krems":MAILTO:office@impulse-krems.at
END:VEVENT
END:VCALENDAR