BEGIN:VCALENDAR
VERSION:2.0
PRODID:-//Geldleben - ECPv6.15.18//NONSGML v1.0//EN
CALSCALE:GREGORIAN
METHOD:PUBLISH
X-ORIGINAL-URL:https://geldleben.at
X-WR-CALDESC:Veranstaltungen für Geldleben
REFRESH-INTERVAL;VALUE=DURATION:PT1H
X-Robots-Tag:noindex
X-PUBLISHED-TTL:PT1H
BEGIN:VTIMEZONE
TZID:Europe/Berlin
BEGIN:DAYLIGHT
TZOFFSETFROM:+0100
TZOFFSETTO:+0200
TZNAME:CEST
DTSTART:20230326T010000
END:DAYLIGHT
BEGIN:STANDARD
TZOFFSETFROM:+0200
TZOFFSETTO:+0100
TZNAME:CET
DTSTART:20231029T010000
END:STANDARD
BEGIN:DAYLIGHT
TZOFFSETFROM:+0100
TZOFFSETTO:+0200
TZNAME:CEST
DTSTART:20240331T010000
END:DAYLIGHT
BEGIN:STANDARD
TZOFFSETFROM:+0200
TZOFFSETTO:+0100
TZNAME:CET
DTSTART:20241027T010000
END:STANDARD
BEGIN:DAYLIGHT
TZOFFSETFROM:+0100
TZOFFSETTO:+0200
TZNAME:CEST
DTSTART:20250330T010000
END:DAYLIGHT
BEGIN:STANDARD
TZOFFSETFROM:+0200
TZOFFSETTO:+0100
TZNAME:CET
DTSTART:20251026T010000
END:STANDARD
END:VTIMEZONE
BEGIN:VEVENT
DTSTART;TZID=Europe/Berlin:20240812T183000
DTEND;TZID=Europe/Berlin:20240812T200000
DTSTAMP:20260421T182757
CREATED:20240715T113017Z
LAST-MODIFIED:20240715T113239Z
UID:3897-1723487400-1723492800@geldleben.at
SUMMARY:Das liebe Geld
DESCRIPTION:Für viele Menschen ist das Thema Geld eine starke Belastung. \nWir bieten einen sicheren Rahmen\, sich mit anderen auszutauschen\, denen es ähnlich geht\, sich dabei gegenseitig zu stärken und gleichzeitig von den Erfahrungen und Lösungsansätzen anderer zu profitieren. \nDieses Angebot richtet sich an alle\, die das Thema Geld mit Stress und Sorgen verbinden.
URL:https://geldleben.at/workshop/das-liebe-geld-5/
LOCATION:Online-Workshop
ATTACH;FMTTYPE=image/png:https://geldleben.at/wp-content/uploads/2024/07/Icons-Workshopprogramm-Website-1.png
END:VEVENT
END:VCALENDAR