BEGIN:VCALENDAR
VERSION:2.0
PRODID:-//Geldleben - ECPv6.15.18//NONSGML v1.0//EN
CALSCALE:GREGORIAN
METHOD:PUBLISH
X-WR-CALNAME:Geldleben
X-ORIGINAL-URL:https://geldleben.at
X-WR-CALDESC:Veranstaltungen für Geldleben
REFRESH-INTERVAL;VALUE=DURATION:PT1H
X-Robots-Tag:noindex
X-PUBLISHED-TTL:PT1H
BEGIN:VTIMEZONE
TZID:Europe/Berlin
BEGIN:DAYLIGHT
TZOFFSETFROM:+0100
TZOFFSETTO:+0200
TZNAME:CEST
DTSTART:20230326T010000
END:DAYLIGHT
BEGIN:STANDARD
TZOFFSETFROM:+0200
TZOFFSETTO:+0100
TZNAME:CET
DTSTART:20231029T010000
END:STANDARD
BEGIN:DAYLIGHT
TZOFFSETFROM:+0100
TZOFFSETTO:+0200
TZNAME:CEST
DTSTART:20240331T010000
END:DAYLIGHT
BEGIN:STANDARD
TZOFFSETFROM:+0200
TZOFFSETTO:+0100
TZNAME:CET
DTSTART:20241027T010000
END:STANDARD
BEGIN:DAYLIGHT
TZOFFSETFROM:+0100
TZOFFSETTO:+0200
TZNAME:CEST
DTSTART:20250330T010000
END:DAYLIGHT
BEGIN:STANDARD
TZOFFSETFROM:+0200
TZOFFSETTO:+0100
TZNAME:CET
DTSTART:20251026T010000
END:STANDARD
END:VTIMEZONE
BEGIN:VEVENT
DTSTART;TZID=Europe/Berlin:20241121T090000
DTEND;TZID=Europe/Berlin:20241121T120000
DTSTAMP:20260421T133444
CREATED:20241010T114109Z
LAST-MODIFIED:20241010T114109Z
UID:4496-1732179600-1732190400@geldleben.at
SUMMARY:Geldbewusst durchs Studium - Was Studierende über Finanzen wissen sollten
DESCRIPTION:
URL:https://geldleben.at/workshop/geldbewusst-durchs-studium-2411/
LOCATION:Standort Graz\, Sackstraße 36\, Graz\, 8010
ATTACH;FMTTYPE=image/png:https://geldleben.at/wp-content/uploads/2024/05/7.png
END:VEVENT
BEGIN:VEVENT
DTSTART;TZID=Europe/Berlin:20241121T150000
DTEND;TZID=Europe/Berlin:20241121T170000
DTSTAMP:20260421T133444
CREATED:20241010T114331Z
LAST-MODIFIED:20241010T114331Z
UID:4499-1732201200-1732208400@geldleben.at
SUMMARY:Spielenachmittag Schotterbande
DESCRIPTION:Die SCHOTTERBANDE ist DAS Spiel für den Einstieg ins Geldleben. \nDas kooperative Gesellschaftsspiel für Kinder im Alter zwischen 6 und 10 Jahren fesselt mit einer spannenden Superheld*innen-Geschichte und vermittelt ganz nebenbei wichtige Fertigkeiten im Umgang mit Geld. \nErgänzt wird das Spiel durch ein Begleitheft für Erwachsene mit grundlegenden Informationen zu Finanzkompetenz sowie jeder Menge Ideen für weiterführende Aktivitäten zum Thema Geld.
URL:https://geldleben.at/workshop/spielenachmittag-schotterbande-2411/
LOCATION:Standort Wien\, Nußdorfer Straße 27\, Wien\, 1090
ATTACH;FMTTYPE=image/png:https://geldleben.at/wp-content/uploads/2024/05/5.png
END:VEVENT
END:VCALENDAR