BEGIN:VCALENDAR
VERSION:2.0
PRODID:-//Geldleben - ECPv6.15.18//NONSGML v1.0//EN
CALSCALE:GREGORIAN
METHOD:PUBLISH
X-WR-CALNAME:Geldleben
X-ORIGINAL-URL:https://geldleben.at
X-WR-CALDESC:Veranstaltungen für Geldleben
REFRESH-INTERVAL;VALUE=DURATION:PT1H
X-Robots-Tag:noindex
X-PUBLISHED-TTL:PT1H
BEGIN:VTIMEZONE
TZID:Europe/Berlin
BEGIN:DAYLIGHT
TZOFFSETFROM:+0100
TZOFFSETTO:+0200
TZNAME:CEST
DTSTART:20240331T010000
END:DAYLIGHT
BEGIN:STANDARD
TZOFFSETFROM:+0200
TZOFFSETTO:+0100
TZNAME:CET
DTSTART:20241027T010000
END:STANDARD
BEGIN:DAYLIGHT
TZOFFSETFROM:+0100
TZOFFSETTO:+0200
TZNAME:CEST
DTSTART:20250330T010000
END:DAYLIGHT
BEGIN:STANDARD
TZOFFSETFROM:+0200
TZOFFSETTO:+0100
TZNAME:CET
DTSTART:20251026T010000
END:STANDARD
BEGIN:DAYLIGHT
TZOFFSETFROM:+0100
TZOFFSETTO:+0200
TZNAME:CEST
DTSTART:20260329T010000
END:DAYLIGHT
BEGIN:STANDARD
TZOFFSETFROM:+0200
TZOFFSETTO:+0100
TZNAME:CET
DTSTART:20261025T010000
END:STANDARD
END:VTIMEZONE
BEGIN:VEVENT
DTSTART;TZID=Europe/Berlin:20250206T140000
DTEND;TZID=Europe/Berlin:20250206T160000
DTSTAMP:20260421T102356
CREATED:20250121T090829Z
LAST-MODIFIED:20250127T144658Z
UID:4804-1738850400-1738857600@geldleben.at
SUMMARY:Spielenachmittag Schotterbande im Rahmen des WIENXTRA-Ferienspiel
DESCRIPTION:Die SCHOTTERBANDE ist DAS Spiel für den Einstieg ins Geldleben. \nDas kooperative Gesellschaftsspiel für Kinder im Alter zwischen 6 und 10 Jahren fesselt mit einer spannenden Superheld*innen-Geschichte und vermittelt ganz nebenbei wichtige Fertigkeiten im Umgang mit Geld. \nErgänzt wird das Spiel durch ein Begleitheft für Erwachsene mit grundlegenden Informationen zu Finanzkompetenz sowie jeder Menge Ideen für weiterführende Aktivitäten zum Thema Geld.
URL:https://geldleben.at/workshop/spielenachmittag-schotterbande-im-rahmen-des-wienxtra-ferienspiel/
LOCATION:Standort Wien\, Nußdorfer Straße 27\, Wien\, 1090
ATTACH;FMTTYPE=image/png:https://geldleben.at/wp-content/uploads/2024/05/5.png
END:VEVENT
BEGIN:VEVENT
DTSTART;TZID=Europe/Berlin:20250206T170000
DTEND;TZID=Europe/Berlin:20250206T190000
DTSTAMP:20260421T102356
CREATED:20250121T091231Z
LAST-MODIFIED:20250121T091231Z
UID:4807-1738861200-1738868400@geldleben.at
SUMMARY:Das Sparbuch hat ausgedient? Wie wir sinnvoll sparen.
DESCRIPTION:Sparen ist immer im Trend – schließlich hat jede*r von uns Wünsche und Träume\, die sich nicht einfach nebenbei bezahlen lassen.  Und um die Altersvorsorge sollten wir uns ja auch noch kümmern. Aber wie spart man am sinnvollsten? Welche Sparformen gibt es überhaupt? Und was sind diese ETFs\, von denen immer alle reden?\nDiesen und weiteren Fragen rund ums Sparen und die Altersvorsorge gehen wir in diesem Workshop auf den Grund.
URL:https://geldleben.at/workshop/das-sparbuch-hat-ausgedient-wie-wir-sinnvoll-sparen-7/
LOCATION:Online-Workshop
ATTACH;FMTTYPE=image/png:https://geldleben.at/wp-content/uploads/2024/05/6.png
END:VEVENT
END:VCALENDAR