BEGIN:VCALENDAR
VERSION:2.0
PRODID:-//Geldleben - ECPv6.15.18//NONSGML v1.0//EN
CALSCALE:GREGORIAN
METHOD:PUBLISH
X-WR-CALNAME:Geldleben
X-ORIGINAL-URL:https://geldleben.at
X-WR-CALDESC:Veranstaltungen für Geldleben
REFRESH-INTERVAL;VALUE=DURATION:PT1H
X-Robots-Tag:noindex
X-PUBLISHED-TTL:PT1H
BEGIN:VTIMEZONE
TZID:Europe/Berlin
BEGIN:DAYLIGHT
TZOFFSETFROM:+0100
TZOFFSETTO:+0200
TZNAME:CEST
DTSTART:20240331T010000
END:DAYLIGHT
BEGIN:STANDARD
TZOFFSETFROM:+0200
TZOFFSETTO:+0100
TZNAME:CET
DTSTART:20241027T010000
END:STANDARD
BEGIN:DAYLIGHT
TZOFFSETFROM:+0100
TZOFFSETTO:+0200
TZNAME:CEST
DTSTART:20250330T010000
END:DAYLIGHT
BEGIN:STANDARD
TZOFFSETFROM:+0200
TZOFFSETTO:+0100
TZNAME:CET
DTSTART:20251026T010000
END:STANDARD
BEGIN:DAYLIGHT
TZOFFSETFROM:+0100
TZOFFSETTO:+0200
TZNAME:CEST
DTSTART:20260329T010000
END:DAYLIGHT
BEGIN:STANDARD
TZOFFSETFROM:+0200
TZOFFSETTO:+0100
TZNAME:CET
DTSTART:20261025T010000
END:STANDARD
END:VTIMEZONE
BEGIN:VEVENT
DTSTART;TZID=Europe/Berlin:20250326T170000
DTEND;TZID=Europe/Berlin:20250326T190000
DTSTAMP:20260421T150242
CREATED:20250130T123625Z
LAST-MODIFIED:20250130T123625Z
UID:4917-1743008400-1743015600@geldleben.at
SUMMARY:Arbeitnehmer*innenveranlagung - Was ist das und wie geht das?
DESCRIPTION:Lohnsteuerausgleich\, Steuererklärung\, Arbeitnehmer*innenveranlagung – so viele verschiedene Namen\, aber immer das gleiche Ziel: Das zu viel bezahlte Geld vom Finanzamt zurückholen! \nDas Online-Seminar gibt eine Antwort auf folgenden Fragen: \n\nWarum gibt es überhaupt eine Arbeitnehmer*innenveranlagung?\nWer kann/muss/soll überhaupt eine Steuererklärung einreichen?\nWelche Ausgaben und Kosten kann ich absetzen?\nWie kann ich meinen Steuerausgleich durchführen und mir mein Geld zurückholen?
URL:https://geldleben.at/workshop/arbeitnehmerinnenveranlagung-was-ist-das-und-wie-geht-das-5/
LOCATION:Online-Workshop
ATTACH;FMTTYPE=image/png:https://geldleben.at/wp-content/uploads/2024/05/Arbeitnehmerinnenveranlagung-–-Was-ist-das-und-wie-geht-das-3.png
END:VEVENT
END:VCALENDAR