BEGIN:VCALENDAR
VERSION:2.0
PRODID:-//Geldleben - ECPv6.15.18//NONSGML v1.0//EN
CALSCALE:GREGORIAN
METHOD:PUBLISH
X-ORIGINAL-URL:https://geldleben.at
X-WR-CALDESC:Veranstaltungen für Geldleben
REFRESH-INTERVAL;VALUE=DURATION:PT1H
X-Robots-Tag:noindex
X-PUBLISHED-TTL:PT1H
BEGIN:VTIMEZONE
TZID:Europe/Berlin
BEGIN:DAYLIGHT
TZOFFSETFROM:+0100
TZOFFSETTO:+0200
TZNAME:CEST
DTSTART:20220327T010000
END:DAYLIGHT
BEGIN:STANDARD
TZOFFSETFROM:+0200
TZOFFSETTO:+0100
TZNAME:CET
DTSTART:20221030T010000
END:STANDARD
BEGIN:DAYLIGHT
TZOFFSETFROM:+0100
TZOFFSETTO:+0200
TZNAME:CEST
DTSTART:20230326T010000
END:DAYLIGHT
BEGIN:STANDARD
TZOFFSETFROM:+0200
TZOFFSETTO:+0100
TZNAME:CET
DTSTART:20231029T010000
END:STANDARD
BEGIN:DAYLIGHT
TZOFFSETFROM:+0100
TZOFFSETTO:+0200
TZNAME:CEST
DTSTART:20240331T010000
END:DAYLIGHT
BEGIN:STANDARD
TZOFFSETFROM:+0200
TZOFFSETTO:+0100
TZNAME:CET
DTSTART:20241027T010000
END:STANDARD
END:VTIMEZONE
BEGIN:VEVENT
DTSTART;TZID=Europe/Berlin:20231204T160000
DTEND;TZID=Europe/Berlin:20231204T180000
DTSTAMP:20260422T054602
CREATED:20231025T105416Z
LAST-MODIFIED:20231130T150542Z
UID:2240-1701705600-1701712800@geldleben.at
SUMMARY:Tag der offenen Tür Wien
DESCRIPTION:Wir stellen uns vor und beantworten allgemeine und individuelle Fragen!\nWer sind wir? Was machen wir? Warum gibt es uns? Wer kann mit welchen Themen zu uns kommen? Herzlich Willkommen!
URL:https://geldleben.at/workshop/tag-der-offenen-tuer-wien-copy/
LOCATION:Standort Wien\, Nußdorfer Straße 27\, Wien\, 1090
END:VEVENT
BEGIN:VEVENT
DTSTART;TZID=Europe/Berlin:20231205T140000
DTEND;TZID=Europe/Berlin:20231205T153000
DTSTAMP:20260422T054602
CREATED:20231025T105758Z
LAST-MODIFIED:20231120T101900Z
UID:2245-1701784800-1701790200@geldleben.at
SUMMARY:Was kostet das Leben? (für Jugendliche)
DESCRIPTION:Zum ersten Mal eigenes Geld zu verdienen und nicht mehr nur aufs Taschengeld angewiesen zu sein – das fühlt sich richtig gut an. Leider vergeht das gute Gefühl oft\, wenn man merkt\, wie teuer das Leben eigentlich ist. Das kann ganz schön frustrierend sein\, wenn man sich eigentlich viele coole Dinge kaufen möchte\, aber das Geld dafür nicht immer ausreicht.\nDeswegen beschäftigen wir uns in diesem Workshop mit den Fragen:\n\nWo kommt das Geld her und wo fließt es hin?\nWas kostet das Leben? Was kommt auf mich zu\, wenn ich nicht mehr zuhause wohne?\n\nDer Workshop richtet sich an Jugendliche\, die in naher Zukunft ihr eigenes Geld verdienen werden oder einfach wissen möchten\, was das Leben so kostet.
URL:https://geldleben.at/workshop/was-kostet-das-leben-fuer-jugendliche/
LOCATION:Standort Graz\, Sackstraße 36\, Graz\, 8010
END:VEVENT
BEGIN:VEVENT
DTSTART;TZID=Europe/Berlin:20231211T170000
DTEND;TZID=Europe/Berlin:20231211T190000
DTSTAMP:20260422T054602
CREATED:20231108T073550Z
LAST-MODIFIED:20231207T134645Z
UID:2290-1702314000-1702321200@geldleben.at
SUMMARY:Das Sparbuch hat ausgedient? Wie wir sinnvoll sparen.
DESCRIPTION:Sparen ist immer im Trend – schließlich hat jede*r von uns Wünsche und Träume\, die sich nicht einfach nebenbei bezahlen lassen.  Und um die Altersvorsorge sollten wir uns ja auch noch kümmern. Aber wie spart man am sinnvollsten? Welche Sparformen gibt es überhaupt? Und was sind diese ETFs\, von denen immer alle reden?\nDiesen und weiteren Fragen rund ums Sparen und die Altersvorsorge gehen wir in diesem Workshop auf den Grund.
URL:https://geldleben.at/workshop/das-sparbuch-hat-ausgedient-wie-wir-sinnvoll-sparen/
LOCATION:Standort Wien\, Nußdorfer Straße 27\, Wien\, 1090
END:VEVENT
BEGIN:VEVENT
DTSTART;TZID=Europe/Berlin:20231212T140000
DTEND;TZID=Europe/Berlin:20231212T160000
DTSTAMP:20260422T054602
CREATED:20231127T105517Z
LAST-MODIFIED:20231207T085909Z
UID:2482-1702389600-1702396800@geldleben.at
SUMMARY:Das Sparbuch hat ausgedient? Wie wir sinnvoll sparen.
DESCRIPTION:Sparen ist immer im Trend – schließlich hat jede*r von uns Wünsche und Träume\, die sich nicht einfach nebenbei bezahlen lassen.  Und um die Altersvorsorge sollten wir uns ja auch noch kümmern. Aber wie spart man am sinnvollsten? Welche Sparformen gibt es überhaupt? Und was sind diese ETFs\, von denen immer alle reden?\nDiesen und weiteren Fragen rund ums Sparen und die Altersvorsorge gehen wir in diesem Workshop auf den Grund.
URL:https://geldleben.at/workshop/das-sparbuch-hat-ausgedient-wie-wir-sinnvoll-sparen-2-2/
LOCATION:Standort St. Pölten\, Schreinergasse 11\, St. Pölten\, 3100
ORGANIZER;CN="Bildung & Beratung Geldleben St. P%C3%B6lten":MAILTO:info@geldleben.at
END:VEVENT
BEGIN:VEVENT
DTSTART;TZID=Europe/Berlin:20231213T170000
DTEND;TZID=Europe/Berlin:20231213T190000
DTSTAMP:20260422T054602
CREATED:20231108T073844Z
LAST-MODIFIED:20231207T085904Z
UID:2293-1702486800-1702494000@geldleben.at
SUMMARY:Das Sparbuch hat ausgedient? Wie wir sinnvoll sparen.
DESCRIPTION:Sparen ist immer im Trend – schließlich hat jede*r von uns Wünsche und Träume\, die sich nicht einfach nebenbei bezahlen lassen.  Und um die Altersvorsorge sollten wir uns ja auch noch kümmern. Aber wie spart man am sinnvollsten? Welche Sparformen gibt es überhaupt? Und was sind diese ETFs\, von denen immer alle reden?\nDiesen und weiteren Fragen rund ums Sparen und die Altersvorsorge gehen wir in diesem Workshop auf den Grund.
URL:https://geldleben.at/workshop/das-sparbuch-hat-ausgedient-wie-wir-sinnvoll-sparen-2/
LOCATION:Standort Graz\, Sackstraße 36\, Graz\, 8010
END:VEVENT
BEGIN:VEVENT
DTSTART;TZID=Europe/Berlin:20231218T183000
DTEND;TZID=Europe/Berlin:20231218T203000
DTSTAMP:20260422T054602
CREATED:20231025T110231Z
LAST-MODIFIED:20231207T090011Z
UID:2249-1702924200-1702931400@geldleben.at
SUMMARY:Mit Kindern über Geld sprechen
DESCRIPTION:Die meisten Menschen lernen den Umgang mit Geld – wenn überhaupt – in der Familie. In diesem Seminar beschäftigen wir uns daher damit\, welche Fertigkeiten für Finanzkompetenz wichtig sind\, wie man sie im Alltag vermittelt und gehen speziell auf das Thema Taschengeld ein. \nDieses Online-Seminar richtet sich v.a. an Eltern oder Bezugspersonen von Kindern zwischen 3 und 10 Jahren.
URL:https://geldleben.at/workshop/mit-kindern-ueber-geld-sprechen-2/
LOCATION:Online-Workshop
END:VEVENT
END:VCALENDAR