BEGIN:VCALENDAR
VERSION:2.0
PRODID:-//Geldleben - ECPv6.15.18//NONSGML v1.0//EN
CALSCALE:GREGORIAN
METHOD:PUBLISH
X-ORIGINAL-URL:https://geldleben.at
X-WR-CALDESC:Veranstaltungen für Geldleben
REFRESH-INTERVAL;VALUE=DURATION:PT1H
X-Robots-Tag:noindex
X-PUBLISHED-TTL:PT1H
BEGIN:VTIMEZONE
TZID:Europe/Berlin
BEGIN:DAYLIGHT
TZOFFSETFROM:+0100
TZOFFSETTO:+0200
TZNAME:CEST
DTSTART:20230326T010000
END:DAYLIGHT
BEGIN:STANDARD
TZOFFSETFROM:+0200
TZOFFSETTO:+0100
TZNAME:CET
DTSTART:20231029T010000
END:STANDARD
BEGIN:DAYLIGHT
TZOFFSETFROM:+0100
TZOFFSETTO:+0200
TZNAME:CEST
DTSTART:20240331T010000
END:DAYLIGHT
BEGIN:STANDARD
TZOFFSETFROM:+0200
TZOFFSETTO:+0100
TZNAME:CET
DTSTART:20241027T010000
END:STANDARD
BEGIN:DAYLIGHT
TZOFFSETFROM:+0100
TZOFFSETTO:+0200
TZNAME:CEST
DTSTART:20250330T010000
END:DAYLIGHT
BEGIN:STANDARD
TZOFFSETFROM:+0200
TZOFFSETTO:+0100
TZNAME:CET
DTSTART:20251026T010000
END:STANDARD
END:VTIMEZONE
BEGIN:VEVENT
DTSTART;TZID=Europe/Berlin:20240214T143000
DTEND;TZID=Europe/Berlin:20240214T163000
DTSTAMP:20260422T023940
CREATED:20240124T134524Z
LAST-MODIFIED:20240124T134524Z
UID:2733-1707921000-1707928200@geldleben.at
SUMMARY:Tag der offenen Tür in Graz
DESCRIPTION:Wir stellen uns vor und beantworten allgemeine und individuelle Fragen!\nWer sind wir? Was machen wir? Warum gibt es uns? Wer kann mit welchen Themen zu uns kommen? Herzlich Willkommen!
URL:https://geldleben.at/workshop/tag-der-offenen-tuer-in-graz/
LOCATION:Standort Graz\, Sackstraße 36\, Graz\, 8010
END:VEVENT
BEGIN:VEVENT
DTSTART;TZID=Europe/Berlin:20240221T170000
DTEND;TZID=Europe/Berlin:20240221T190000
DTSTAMP:20260422T023940
CREATED:20240124T135123Z
LAST-MODIFIED:20240124T135215Z
UID:2737-1708534800-1708542000@geldleben.at
SUMMARY:Arbeitnehmer*innenveranlagung - Was ist das und wie geht das?
DESCRIPTION:Lohnsteuerausgleich\, Steuererklärung\, Arbeitnehmer*innenveranlagung – so viele verschiedene Namen\, aber immer das gleiche Ziel: Das zu viel bezahlte Geld vom Finanzamt zurückholen! \nDas Online-Seminar gibt eine Antwort auf folgenden Fragen: \n\nWarum gibt es überhaupt eine Arbeitnehmer*innenveranlagung?\nWer kann/muss/soll überhaupt eine Steuererklärung einreichen?\nWelche Ausgaben und Kosten kann ich absetzen?\nWie kann ich meinen Steuerausgleich durchführen und mir mein Geld zurückholen?
URL:https://geldleben.at/workshop/arbeitnehmerinnenveranlagung-was-ist-das-und-wie-geht-das/
LOCATION:Online-Workshop
END:VEVENT
BEGIN:VEVENT
DTSTART;TZID=Europe/Berlin:20240227T150000
DTEND;TZID=Europe/Berlin:20240227T170000
DTSTAMP:20260422T023940
CREATED:20240124T135636Z
LAST-MODIFIED:20240222T101414Z
UID:2741-1709046000-1709053200@geldleben.at
SUMMARY:Spielenachmittag SCHOTTERBANDE
DESCRIPTION:Die SCHOTTERBANDE ist DAS Spiel für den Einstieg ins Geldleben. Das kooperative Gesellschaftsspiel für Kinder im Alter zwischen 6 und 10 Jahren fesselt mit einer spannenden Superheld*innen-Geschichte und vermittelt ganz nebenbei wichtige Fertigkeiten im Umgang mit Geld. Ergänzt wird das Spiel durch ein Begleitheft für Erwachsene mit grundlegenden Informationen zu Finanzkompetenz sowie jeder Menge Ideen für weiterführende Aktivitäten zum Thema Geld.
URL:https://geldleben.at/workshop/spielenachmittag-schotterbande-5/
LOCATION:Standort Wien\, Nußdorfer Straße 27\, Wien\, 1090
END:VEVENT
BEGIN:VEVENT
DTSTART;TZID=Europe/Berlin:20240228T170000
DTEND;TZID=Europe/Berlin:20240228T190000
DTSTAMP:20260422T023940
CREATED:20240124T140340Z
LAST-MODIFIED:20240222T101333Z
UID:2745-1709139600-1709146800@geldleben.at
SUMMARY:Das Sparbuch hat ausgedient? Wie wir sinnvoll sparen.
DESCRIPTION:Sparen ist immer im Trend – schließlich hat jede*r von uns Wünsche und Träume\, die sich nicht einfach nebenbei bezahlen lassen.  Und um die Altersvorsorge sollten wir uns ja auch noch kümmern. Aber wie spart man am sinnvollsten? Welche Sparformen gibt es überhaupt? Und was sind diese ETFs\, von denen immer alle reden?\nDiesen und weiteren Fragen rund ums Sparen und die Altersvorsorge gehen wir in diesem Workshop auf den Grund.
URL:https://geldleben.at/workshop/das-sparbuch-hat-ausgedient-wie-wir-sinnvoll-sparen-3/
LOCATION:Online-Workshop
END:VEVENT
END:VCALENDAR