BEGIN:VCALENDAR
VERSION:2.0
PRODID:-//Geldleben - ECPv6.15.18//NONSGML v1.0//EN
CALSCALE:GREGORIAN
METHOD:PUBLISH
X-ORIGINAL-URL:https://geldleben.at
X-WR-CALDESC:Veranstaltungen für Geldleben
REFRESH-INTERVAL;VALUE=DURATION:PT1H
X-Robots-Tag:noindex
X-PUBLISHED-TTL:PT1H
BEGIN:VTIMEZONE
TZID:Europe/Berlin
BEGIN:DAYLIGHT
TZOFFSETFROM:+0100
TZOFFSETTO:+0200
TZNAME:CEST
DTSTART:20230326T010000
END:DAYLIGHT
BEGIN:STANDARD
TZOFFSETFROM:+0200
TZOFFSETTO:+0100
TZNAME:CET
DTSTART:20231029T010000
END:STANDARD
BEGIN:DAYLIGHT
TZOFFSETFROM:+0100
TZOFFSETTO:+0200
TZNAME:CEST
DTSTART:20240331T010000
END:DAYLIGHT
BEGIN:STANDARD
TZOFFSETFROM:+0200
TZOFFSETTO:+0100
TZNAME:CET
DTSTART:20241027T010000
END:STANDARD
BEGIN:DAYLIGHT
TZOFFSETFROM:+0100
TZOFFSETTO:+0200
TZNAME:CEST
DTSTART:20250330T010000
END:DAYLIGHT
BEGIN:STANDARD
TZOFFSETFROM:+0200
TZOFFSETTO:+0100
TZNAME:CET
DTSTART:20251026T010000
END:STANDARD
END:VTIMEZONE
BEGIN:VEVENT
DTSTART;TZID=Europe/Berlin:20240603T100000
DTEND;TZID=Europe/Berlin:20240603T140000
DTSTAMP:20260421T200448
CREATED:20240508T084331Z
LAST-MODIFIED:20240516T075815Z
UID:3382-1717408800-1717423200@geldleben.at
SUMMARY:Offener Workshop und Beratung rund ums Thema Geld
DESCRIPTION:Wie komme ich mit meinem Geld besser aus? Wie erreiche ich finanzielle Ziele? Wie mache ich mich in Zukunft finanziell unabhängiger? \nGeld spielt eine große Rolle in unserem Leben – leider oft auf nicht so angenehme Weise. Wir helfen dabei\, das Bewusstsein für Geld zu schärfen und vermitteln die nötigen Grundlagen\, um gute finanzielle Entscheidungen treffen zu können: Für mehr finanzielle Selbstbestimmung und Unabhängigkeit. \nEin Einstieg ist bis spätestens 13.30 Uhr jederzeit möglich\, die Aufenthaltsdauer ist individuell. \nWir bitten um Anmeldung. \nDieser Workshop findet im Rahmen der Wiener Wochen für Beruf und Weiterbildung statt.
URL:https://geldleben.at/workshop/offener-workshop-und-beratung-rund-ums-thema-geld/
LOCATION:Standort Wien\, Nußdorfer Straße 27\, Wien\, 1090
END:VEVENT
BEGIN:VEVENT
DTSTART;TZID=Europe/Berlin:20240604T100000
DTEND;TZID=Europe/Berlin:20240604T130000
DTSTAMP:20260421T200448
CREATED:20240516T124959Z
LAST-MODIFIED:20240516T124959Z
UID:3440-1717495200-1717506000@geldleben.at
SUMMARY:Was kostet das Leben? (für Jugendliche)
DESCRIPTION:Zum ersten Mal eigenes Geld zu verdienen und nicht mehr nur aufs Taschengeld angewiesen zu sein – das fühlt sich richtig gut an. Leider vergeht das gute Gefühl oft\, wenn man merkt\, wie teuer das Leben eigentlich ist. Das kann ganz schön frustrierend sein\, wenn man sich eigentlich viele coole Dinge kaufen möchte\, aber das Geld dafür nicht immer ausreicht.\nDeswegen beschäftigen wir uns in diesem Workshop mit den Fragen:\n\nWo kommt das Geld her und wo fließt es hin?\nWas kostet das Leben? Was kommt auf mich zu\, wenn ich nicht mehr zuhause wohne?\n\nDer Workshop richtet sich an Jugendliche\, die in naher Zukunft ihr eigenes Geld verdienen werden oder einfach wissen möchten\, was das Leben so kostet.
URL:https://geldleben.at/workshop/was-kostet-das-leben-fuer-jugendliche-5/
LOCATION:Standort Wien\, Nußdorfer Straße 27\, Wien\, 1090
END:VEVENT
BEGIN:VEVENT
DTSTART;TZID=Europe/Berlin:20240606T090000
DTEND;TZID=Europe/Berlin:20240606T110000
DTSTAMP:20260421T200448
CREATED:20240516T125120Z
LAST-MODIFIED:20240516T125120Z
UID:3443-1717664400-1717671600@geldleben.at
SUMMARY:Modul 2: Was kostet das Leben? (für Jugendliche)
DESCRIPTION:Zum ersten Mal eigenes Geld zu verdienen und nicht mehr nur aufs Taschengeld angewiesen zu sein – das fühlt sich richtig gut an. Leider vergeht das gute Gefühl oft\, wenn man merkt\, wie teuer das Leben eigentlich ist. Das kann ganz schön frustrierend sein\, wenn man sich eigentlich viele coole Dinge kaufen möchte\, aber das Geld dafür nicht immer ausreicht.\nDeswegen beschäftigen wir uns in diesem Workshop mit den Fragen:\n\nWo kommt das Geld her und wo fließt es hin?\nWas kostet das Leben? Was kommt auf mich zu\, wenn ich nicht mehr zuhause wohne?\n\nDer Workshop richtet sich an Jugendliche\, die in naher Zukunft ihr eigenes Geld verdienen werden oder einfach wissen möchten\, was das Leben so kostet.
URL:https://geldleben.at/workshop/modul-2-was-kostet-das-leben-fuer-jugendliche-2/
LOCATION:Standort Graz\, Sackstraße 36\, Graz\, 8010
END:VEVENT
BEGIN:VEVENT
DTSTART;TZID=Europe/Berlin:20240610T100000
DTEND;TZID=Europe/Berlin:20240610T140000
DTSTAMP:20260421T200448
CREATED:20240508T084427Z
LAST-MODIFIED:20240516T075752Z
UID:3384-1718013600-1718028000@geldleben.at
SUMMARY:Offener Workshop und Beratung rund ums Thema Geld
DESCRIPTION:Wie komme ich mit meinem Geld besser aus? Wie erreiche ich finanzielle Ziele? Wie mache ich mich in Zukunft finanziell unabhängiger? \nGeld spielt eine große Rolle in unserem Leben – leider oft auf nicht so angenehme Weise. Wir helfen dabei\, das Bewusstsein für Geld zu schärfen und vermitteln die nötigen Grundlagen\, um gute finanzielle Entscheidungen treffen zu können: Für mehr finanzielle Selbstbestimmung und Unabhängigkeit. \nEin Einstieg ist bis spätestens 13.30 Uhr jederzeit möglich\, die Aufenthaltsdauer ist individuell. \nWir bitten um Anmeldung. \nZielgruppe: Erwachsene und Jugendliche \nDieser Workshop findet im Rahmen der Wiener Wochen für Beruf und Weiterbildung statt.
URL:https://geldleben.at/workshop/offener-workshop-und-beratung-rund-ums-thema-geld-2/
LOCATION:Standort Wien\, Nußdorfer Straße 27\, Wien\, 1090
END:VEVENT
BEGIN:VEVENT
DTSTART;TZID=Europe/Berlin:20240613T093000
DTEND;TZID=Europe/Berlin:20240613T113000
DTSTAMP:20260421T200448
CREATED:20240516T125259Z
LAST-MODIFIED:20240611T141223Z
UID:3446-1718271000-1718278200@geldleben.at
SUMMARY:Zu viel Monat am Ende des Geldes
DESCRIPTION:Wer kennt das nicht? Das Geld am Konto ist beinahe verbraucht\, doch wir schreiben erst Mitte des Monats. Wir möchten dir praktische Tipps und einfache Werkzeuge für deinen Alltag mitgeben\, mit denen es dir gelingt\, bessere finanzielle Entscheidungen zu treffen und ein gutes Geldleben zu führen. \nIm Rahmen des Workshops beschäftigen uns konkret mit folgenden Fragen: \n\nWie behalte ich einfach und effizient den Überblick über meine Einnahmen und Ausgaben?\nWie kann ich schnell und unkompliziert meine Einnahmen erhöhen und meine Ausgaben reduzieren?\nWie kann ich bei meiner Budgetplanung für unerwartete Ausgaben gut vorsorgen?\n\nDie Inhalte werden mit praktischen Übungen und interaktiven Methoden vermittelt\, sodass diese nach dem Workshop direkt im Alltag anwendbar sind.
URL:https://geldleben.at/workshop/zu-viel-monat-am-ende-des-geldes-6/
LOCATION:Standort Graz\, Sackstraße 36\, Graz\, 8010
ATTACH;FMTTYPE=image/png:https://geldleben.at/wp-content/uploads/2024/05/Icons-Workshopprogramm-Website.png
END:VEVENT
BEGIN:VEVENT
DTSTART;TZID=Europe/Berlin:20240617T170000
DTEND;TZID=Europe/Berlin:20240617T190000
DTSTAMP:20260421T200448
CREATED:20240516T125441Z
LAST-MODIFIED:20240610T134139Z
UID:3449-1718643600-1718650800@geldleben.at
SUMMARY:Arbeitnehmer*innenveranlagung - Was ist das und wie geht das?
DESCRIPTION:Lohnsteuerausgleich\, Steuererklärung\, Arbeitnehmer*innenveranlagung – so viele verschiedene Namen\, aber immer das gleiche Ziel: Das zu viel bezahlte Geld vom Finanzamt zurückholen! \nDas Online-Seminar gibt eine Antwort auf folgenden Fragen: \n\nWarum gibt es überhaupt eine Arbeitnehmer*innenveranlagung?\nWer kann/muss/soll überhaupt eine Steuererklärung einreichen?\nWelche Ausgaben und Kosten kann ich absetzen?\nWie kann ich meinen Steuerausgleich durchführen und mir mein Geld zurückholen?
URL:https://geldleben.at/workshop/arbeitnehmerinnenveranlagung-was-ist-das-und-wie-geht-das-3/
LOCATION:Online-Workshop
ATTACH;FMTTYPE=image/png:https://geldleben.at/wp-content/uploads/2024/05/Arbeitnehmerinnenveranlagung-–-Was-ist-das-und-wie-geht-das-3.png
END:VEVENT
BEGIN:VEVENT
DTSTART;TZID=Europe/Berlin:20240618T080000
DTEND;TZID=Europe/Berlin:20240618T133000
DTSTAMP:20260421T200448
CREATED:20240411T131638Z
LAST-MODIFIED:20240611T141219Z
UID:3055-1718697600-1718717400@geldleben.at
SUMMARY:Geldleben bei "Jugend im Park"
DESCRIPTION:Ziel von Jugend im Park ist es\, jungen Menschen Angebote und soziale Leistungen in ihrem Umfeld aufzuzeigen. Dazu lädt der Verein Impulse Krems jedes Jahr in der vorletzten Schulwoche verschiedene Einrichtungen ein\, sich und ihre Angebote niederschwellig vorzustellen und mit den Besucher*innen bei gemeinsamen Aktivitäten in Kontakt zu kommen. \nFür Schulklassen und Jugendgruppen werden kostenlose Workshops (ca. 1-2 Stunden) rund um kreative und sportliche Themen wie Graffiti\, Mosaik\, Trommeln\, Taekwondo\, Capoeira\, erlebnispädagogisch Gruppen stärken\, Parcour- und Freerunning\, praktische Berufsorientierung\, Money checker etc. geboten. Bildung & Beratung Geldleben ist ebenfalls vor Ort! \nZudem wartet auf die Rund 700 Besucher*innen ein vielfältiges Rahmenprogramm mit zahlreichen Action- und Freizeitangeboten: Kistenklettern\, Parcour und Freerunning\, Bubblesoccer\, Basketball\, Riesenseifenblasen\, Geschicklichkeits- und erlebnispädagogische Stationen\, Slackline\, Jonglieren\, Wundenschminken\, Tattoos & Bodypainting\, im Jugendzentrum: Saftbar\, Chili\, Wuzzler\, Airhockey\, Billiard\, Asia-Corner\, Mangas\, Styling und Make-Up\, Kreatives\, Gesellschaftsspiele u.v.m.
URL:https://geldleben.at/workshop/geldleben-on-tour-jugendmesse-im-park/
LOCATION:Jugendmesse in Krems\, Krems\, Österreich
ATTACH;FMTTYPE=image/png:https://geldleben.at/wp-content/uploads/2024/05/3.png
ORGANIZER;CN="Verein Impulse Krems":MAILTO:office@impulse-krems.at
END:VEVENT
BEGIN:VEVENT
DTSTART;TZID=Europe/Berlin:20240625T130000
DTEND;TZID=Europe/Berlin:20240625T180000
DTSTAMP:20260421T200448
CREATED:20240516T130224Z
LAST-MODIFIED:20240611T141227Z
UID:3455-1719320400-1719338400@geldleben.at
SUMMARY:Come as you are - Wir laden zu Geldleben Graz ein!
DESCRIPTION:Unsere Türen stehen an diesem Tag offen für alle! Wir nehmen uns Zeit für individuelle (Geld-)Fragen\, plaudern gemeinsam über Geldleben\, zeigen euch unseren Arbeitsplatz und trinken gemütlich einen Kaffee oder Tee zusammen. Auch Kinder sind herzlich willkommen – wir haben das Spiel SCHOTTERBANDE vorbereitet. \nWir freuen uns auf das Kennenlernen und den Austausch!\nEine Anmeldung ist nicht notwendig. Von 13:00 bis 18:00 Uhr kannst du jederzeit vorbeikommen.
URL:https://geldleben.at/workshop/open-house-komm-und-lern-geldleben-graz-kennen/
LOCATION:Standort Graz\, Sackstraße 36\, Graz\, 8010
ATTACH;FMTTYPE=image/png:https://geldleben.at/wp-content/uploads/2024/05/2.png
END:VEVENT
BEGIN:VEVENT
DTSTART;TZID=Europe/Berlin:20240627T190000
DTEND;TZID=Europe/Berlin:20240627T203000
DTSTAMP:20260421T200448
CREATED:20240516T125849Z
LAST-MODIFIED:20240610T135340Z
UID:3452-1719514800-1719520200@geldleben.at
SUMMARY:Geldbewusste Frauen! Was ist für Frauen im Laufe ihres Geldlebens wichtig?
DESCRIPTION:Wollen Frauen wirklich weniger über Finanzen wissen als Männer? Natürlich nicht! \nDeswegen schauen wir uns gemeinsam an\, worauf Frauen besonders achten sollten: \n\nWelche Geldthemen sind in welcher Lebensphase wichtig?\nWie kann ich meine Selbstwirksamkeit in Bezug auf mein Geldleben stärken?\nWas bedeutet Pensionslücke und Pensionssplitting?\n\n  \nAnmerkung: Dieser Workshop richtet sich ausschließlich an Frauen und weiblich sozialisierte Personen.
URL:https://geldleben.at/workshop/geldbewusste-frauen-was-ist-fuer-frauen-im-laufe-ihres-geldlebens-wichtig-3/
LOCATION:Online-Workshop
ATTACH;FMTTYPE=image/png:https://geldleben.at/wp-content/uploads/2024/05/7.png
END:VEVENT
END:VCALENDAR