BEGIN:VCALENDAR
VERSION:2.0
PRODID:-//Geldleben - ECPv6.15.18//NONSGML v1.0//EN
CALSCALE:GREGORIAN
METHOD:PUBLISH
X-WR-CALNAME:Geldleben
X-ORIGINAL-URL:https://geldleben.at
X-WR-CALDESC:Veranstaltungen für Geldleben
REFRESH-INTERVAL;VALUE=DURATION:PT1H
X-Robots-Tag:noindex
X-PUBLISHED-TTL:PT1H
BEGIN:VTIMEZONE
TZID:Europe/Berlin
BEGIN:DAYLIGHT
TZOFFSETFROM:+0100
TZOFFSETTO:+0200
TZNAME:CEST
DTSTART:20230326T010000
END:DAYLIGHT
BEGIN:STANDARD
TZOFFSETFROM:+0200
TZOFFSETTO:+0100
TZNAME:CET
DTSTART:20231029T010000
END:STANDARD
BEGIN:DAYLIGHT
TZOFFSETFROM:+0100
TZOFFSETTO:+0200
TZNAME:CEST
DTSTART:20240331T010000
END:DAYLIGHT
BEGIN:STANDARD
TZOFFSETFROM:+0200
TZOFFSETTO:+0100
TZNAME:CET
DTSTART:20241027T010000
END:STANDARD
BEGIN:DAYLIGHT
TZOFFSETFROM:+0100
TZOFFSETTO:+0200
TZNAME:CEST
DTSTART:20250330T010000
END:DAYLIGHT
BEGIN:STANDARD
TZOFFSETFROM:+0200
TZOFFSETTO:+0100
TZNAME:CET
DTSTART:20251026T010000
END:STANDARD
END:VTIMEZONE
BEGIN:VEVENT
DTSTART;TZID=Europe/Berlin:20240701T170000
DTEND;TZID=Europe/Berlin:20240701T190000
DTSTAMP:20260421T182531
CREATED:20240610T125131Z
LAST-MODIFIED:20240613T090509Z
UID:3620-1719853200-1719860400@geldleben.at
SUMMARY:Das Sparbuch hat ausgedient? Wie wir sinnvoll sparen.
DESCRIPTION:Sparen ist immer im Trend – schließlich hat jede*r von uns Wünsche und Träume\, die sich nicht einfach nebenbei bezahlen lassen.  Und um die Altersvorsorge sollten wir uns ja auch noch kümmern. Aber wie spart man am sinnvollsten? Welche Sparformen gibt es überhaupt? Und was sind diese ETFs\, von denen immer alle reden?\nDiesen und weiteren Fragen rund ums Sparen und die Altersvorsorge gehen wir in diesem Workshop auf den Grund.
URL:https://geldleben.at/workshop/das-sparbuch-hat-ausgedient-wie-wir-sinnvoll-sparen-5/
LOCATION:Online-Workshop
ATTACH;FMTTYPE=image/png:https://geldleben.at/wp-content/uploads/2024/05/6.png
END:VEVENT
BEGIN:VEVENT
DTSTART;TZID=Europe/Berlin:20240710T180000
DTEND;TZID=Europe/Berlin:20240710T200000
DTSTAMP:20260421T182531
CREATED:20240610T125309Z
LAST-MODIFIED:20240610T135322Z
UID:3623-1720634400-1720641600@geldleben.at
SUMMARY:Geldbewusste Frauen! Was ist für Frauen im Laufe ihres Geldlebens wichtig?
DESCRIPTION:Wollen Frauen wirklich weniger über Finanzen wissen als Männer? Natürlich nicht! \nDeswegen schauen wir uns gemeinsam an\, worauf Frauen besonders achten sollten: \n\nWelche Geldthemen sind in welcher Lebensphase wichtig?\nWie kann ich meine Selbstwirksamkeit in Bezug auf mein Geldleben stärken?\nWas bedeutet Pensionslücke und Pensionssplitting?\n\n  \nAnmerkung: Dieser Workshop richtet sich ausschließlich an Frauen und weiblich sozialisierte Personen.
URL:https://geldleben.at/workshop/geldbewusste-frauen-was-ist-fuer-frauen-im-laufe-ihres-geldlebens-wichtig-copy/
LOCATION:Standort Graz\, Sackstraße 36\, Graz\, 8010
ATTACH;FMTTYPE=image/png:https://geldleben.at/wp-content/uploads/2024/05/7.png
END:VEVENT
BEGIN:VEVENT
DTSTART;TZID=Europe/Berlin:20240716T183000
DTEND;TZID=Europe/Berlin:20240716T203000
DTSTAMP:20260421T182531
CREATED:20240613T134028Z
LAST-MODIFIED:20240715T081424Z
UID:3738-1721154600-1721161800@geldleben.at
SUMMARY:Mit Kindern über Geld sprechen
DESCRIPTION:Die meisten Menschen lernen den Umgang mit Geld – wenn überhaupt – in der Familie. In diesem Seminar beschäftigen wir uns daher damit\, welche Fertigkeiten für Finanzkompetenz wichtig sind\, wie man sie im Alltag vermittelt und gehen speziell auf das Thema Taschengeld ein. \nDieses Online-Seminar richtet sich v.a. an Eltern oder Bezugspersonen von Kindern zwischen 3 und 10 Jahren.
URL:https://geldleben.at/workshop/mit-kindern-ueber-geld-sprechen-4/
LOCATION:Online-Workshop
ATTACH;FMTTYPE=image/png:https://geldleben.at/wp-content/uploads/2024/05/8.png
END:VEVENT
BEGIN:VEVENT
DTSTART;TZID=Europe/Berlin:20240723T170000
DTEND;TZID=Europe/Berlin:20240723T190000
DTSTAMP:20260421T182531
CREATED:20240610T130055Z
LAST-MODIFIED:20240610T135313Z
UID:3627-1721754000-1721761200@geldleben.at
SUMMARY:Geldbewusste Frauen! Was ist für Frauen im Laufe ihres Geldlebens wichtig?
DESCRIPTION:Wollen Frauen wirklich weniger über Finanzen wissen als Männer? Natürlich nicht! \nDeswegen schauen wir uns gemeinsam an\, worauf Frauen besonders achten sollten: \n\nWelche Geldthemen sind in welcher Lebensphase wichtig?\nWie kann ich meine Selbstwirksamkeit in Bezug auf mein Geldleben stärken?\nWas bedeutet Pensionslücke und Pensionssplitting?\n\n  \nAnmerkung: Dieser Workshop richtet sich ausschließlich an Frauen und weiblich sozialisierte Personen.
URL:https://geldleben.at/workshop/geldbewusste-frauen-was-ist-fuer-frauen-im-laufe-ihres-geldlebens-wichtig-4/
LOCATION:Online-Workshop
ATTACH;FMTTYPE=image/png:https://geldleben.at/wp-content/uploads/2024/05/7.png
END:VEVENT
BEGIN:VEVENT
DTSTART;TZID=Europe/Berlin:20240730T120000
DTEND;TZID=Europe/Berlin:20240730T170000
DTSTAMP:20260421T182531
CREATED:20240610T131136Z
LAST-MODIFIED:20240610T135211Z
UID:3650-1722340800-1722358800@geldleben.at
SUMMARY:Come as you are - Wir laden zu Geldleben Graz ein!
DESCRIPTION:Unsere Türen stehen an diesem Tag offen für alle! Wir nehmen uns Zeit für individuelle (Geld-)Fragen\, plaudern gemeinsam über Geldleben\, zeigen euch unseren Arbeitsplatz und trinken gemütlich einen Kaffee oder Tee zusammen. Auch Kinder sind herzlich willkommen – wir haben das Spiel SCHOTTERBANDE vorbereitet. \nWir freuen uns auf das Kennenlernen und den Austausch!\nEine Anmeldung ist nicht notwendig. Von 13:00 bis 18:00 Uhr kannst du jederzeit vorbeikommen.
URL:https://geldleben.at/workshop/come-as-you-are-wir-laden-zu-geldleben-graz-ein/
LOCATION:Standort Graz\, Sackstraße 36\, Graz\, 8010
ATTACH;FMTTYPE=image/png:https://geldleben.at/wp-content/uploads/2024/05/2.png
END:VEVENT
BEGIN:VEVENT
DTSTART;TZID=Europe/Berlin:20240730T140000
DTEND;TZID=Europe/Berlin:20240730T160000
DTSTAMP:20260421T182531
CREATED:20240610T130331Z
LAST-MODIFIED:20240716T080328Z
UID:3630-1722348000-1722355200@geldleben.at
SUMMARY:Spielenachmittag Schotterbande im Rahmen des WIENXTRA-Ferienspiels
DESCRIPTION:Die SCHOTTERBANDE ist DAS Spiel für den Einstieg ins Geldleben. \nDas kooperative Gesellschaftsspiel für Kinder im Alter zwischen 6 und 10 Jahren fesselt mit einer spannenden Superheld*innen-Geschichte und vermittelt ganz nebenbei wichtige Fertigkeiten im Umgang mit Geld. \nErgänzt wird das Spiel durch ein Begleitheft für Erwachsene mit grundlegenden Informationen zu Finanzkompetenz sowie jeder Menge Ideen für weiterführende Aktivitäten zum Thema Geld.
URL:https://geldleben.at/workshop/spielenachmittag-schotterbande-im-rahmen-des-wienxtra-ferienspiels/
LOCATION:Standort Wien\, Nußdorfer Straße 27\, Wien\, 1090
ATTACH;FMTTYPE=image/png:https://geldleben.at/wp-content/uploads/2024/05/5.png
END:VEVENT
END:VCALENDAR