BEGIN:VCALENDAR
VERSION:2.0
PRODID:-//Geldleben - ECPv6.15.18//NONSGML v1.0//EN
CALSCALE:GREGORIAN
METHOD:PUBLISH
X-ORIGINAL-URL:https://geldleben.at
X-WR-CALDESC:Veranstaltungen für Geldleben
REFRESH-INTERVAL;VALUE=DURATION:PT1H
X-Robots-Tag:noindex
X-PUBLISHED-TTL:PT1H
BEGIN:VTIMEZONE
TZID:Europe/Berlin
BEGIN:DAYLIGHT
TZOFFSETFROM:+0100
TZOFFSETTO:+0200
TZNAME:CEST
DTSTART:20230326T010000
END:DAYLIGHT
BEGIN:STANDARD
TZOFFSETFROM:+0200
TZOFFSETTO:+0100
TZNAME:CET
DTSTART:20231029T010000
END:STANDARD
BEGIN:DAYLIGHT
TZOFFSETFROM:+0100
TZOFFSETTO:+0200
TZNAME:CEST
DTSTART:20240331T010000
END:DAYLIGHT
BEGIN:STANDARD
TZOFFSETFROM:+0200
TZOFFSETTO:+0100
TZNAME:CET
DTSTART:20241027T010000
END:STANDARD
BEGIN:DAYLIGHT
TZOFFSETFROM:+0100
TZOFFSETTO:+0200
TZNAME:CEST
DTSTART:20250330T010000
END:DAYLIGHT
BEGIN:STANDARD
TZOFFSETFROM:+0200
TZOFFSETTO:+0100
TZNAME:CET
DTSTART:20251026T010000
END:STANDARD
END:VTIMEZONE
BEGIN:VEVENT
DTSTART;TZID=Europe/Berlin:20240903T170000
DTEND;TZID=Europe/Berlin:20240903T190000
DTSTAMP:20260421T150551
CREATED:20240807T130128Z
LAST-MODIFIED:20240807T130128Z
UID:4048-1725382800-1725390000@geldleben.at
SUMMARY:Das Sparbuch hat ausgedient? Wie wir sinnvoll sparen.
DESCRIPTION:Sparen ist immer im Trend – schließlich hat jede*r von uns Wünsche und Träume\, die sich nicht einfach nebenbei bezahlen lassen.  Und um die Altersvorsorge sollten wir uns ja auch noch kümmern. Aber wie spart man am sinnvollsten? Welche Sparformen gibt es überhaupt? Und was sind diese ETFs\, von denen immer alle reden?\nDiesen und weiteren Fragen rund ums Sparen und die Altersvorsorge gehen wir in diesem Workshop auf den Grund.
URL:https://geldleben.at/workshop/sinnvoll-sparen-0309/
LOCATION:Online-Workshop
ATTACH;FMTTYPE=image/png:https://geldleben.at/wp-content/uploads/2024/05/6.png
END:VEVENT
BEGIN:VEVENT
DTSTART;TZID=Europe/Berlin:20240912T090000
DTEND;TZID=Europe/Berlin:20240912T110000
DTSTAMP:20260421T150551
CREATED:20240807T130431Z
LAST-MODIFIED:20240807T130431Z
UID:4051-1726131600-1726138800@geldleben.at
SUMMARY:Zu viel Monat am Ende des Geldes
DESCRIPTION:Wer kennt das nicht? Das Geld am Konto ist beinahe verbraucht\, doch wir schreiben erst Mitte des Monats. Wir möchten dir praktische Tipps und einfache Werkzeuge für deinen Alltag mitgeben\, mit denen es dir gelingt\, bessere finanzielle Entscheidungen zu treffen und ein gutes Geldleben zu führen. \nIm Rahmen des Workshops beschäftigen uns konkret mit folgenden Fragen: \n\nWie behalte ich einfach und effizient den Überblick über meine Einnahmen und Ausgaben?\nWie kann ich schnell und unkompliziert meine Einnahmen erhöhen und meine Ausgaben reduzieren?\nWie kann ich bei meiner Budgetplanung für unerwartete Ausgaben gut vorsorgen?\n\nDie Inhalte werden mit praktischen Übungen und interaktiven Methoden vermittelt\, sodass diese nach dem Workshop direkt im Alltag anwendbar sind.
URL:https://geldleben.at/workshop/zu-viel-monat-am-ende-des-geldes-1209/
LOCATION:Online-Workshop
ATTACH;FMTTYPE=image/png:https://geldleben.at/wp-content/uploads/2024/05/Icons-Workshopprogramm-Website.png
END:VEVENT
BEGIN:VEVENT
DTSTART;TZID=Europe/Berlin:20240912T190000
DTEND;TZID=Europe/Berlin:20240912T203000
DTSTAMP:20260421T150551
CREATED:20240819T081800Z
LAST-MODIFIED:20240819T084252Z
UID:4094-1726167600-1726173000@geldleben.at
SUMMARY:Mit Kindern über Geld sprechen
DESCRIPTION:Die meisten Menschen lernen den Umgang mit Geld – wenn überhaupt – in der Familie. In diesem Seminar beschäftigen wir uns daher damit\, welche Fertigkeiten für Finanzkompetenz wichtig sind\, wie man sie im Alltag vermittelt und gehen speziell auf das Thema Taschengeld ein. \nDieses Online-Seminar richtet sich v.a. an Eltern oder Bezugspersonen von Kindern zwischen 3 und 10 Jahren. \n  \nDiese Veranstaltung wird ermöglicht durch die Unterstützung des EVN Sozialfonds.
URL:https://geldleben.at/workshop/mit-kindern-ueber-geld-sprechen-0924/
LOCATION:Online-Workshop
ATTACH;FMTTYPE=image/png:https://geldleben.at/wp-content/uploads/2024/05/8.png
END:VEVENT
BEGIN:VEVENT
DTSTART;TZID=Europe/Berlin:20240918T100000
DTEND;TZID=Europe/Berlin:20240918T120000
DTSTAMP:20260421T150551
CREATED:20240807T130631Z
LAST-MODIFIED:20240807T130631Z
UID:4054-1726653600-1726660800@geldleben.at
SUMMARY:Modul 4: Was kostet das Leben? (für Jugendliche)
DESCRIPTION:Zum ersten Mal eigenes Geld zu verdienen und nicht mehr nur aufs Taschengeld angewiesen zu sein – das fühlt sich richtig gut an. Leider vergeht das gute Gefühl oft\, wenn man merkt\, wie teuer das Leben eigentlich ist. Das kann ganz schön frustrierend sein\, wenn man sich eigentlich viele coole Dinge kaufen möchte\, aber das Geld dafür nicht immer ausreicht.\nDeswegen beschäftigen wir uns in diesem Workshop mit den Fragen:\n\nWo kommt das Geld her und wo fließt es hin?\nWas kostet das Leben? Was kommt auf mich zu\, wenn ich nicht mehr zuhause wohne?\n\nDer Workshop richtet sich an Jugendliche\, die in naher Zukunft ihr eigenes Geld verdienen werden oder einfach wissen möchten\, was das Leben so kostet.
URL:https://geldleben.at/workshop/modul-4-was-kostet-das-leben-0924/
LOCATION:Standort Graz\, Sackstraße 36\, Graz\, 8010
ATTACH;FMTTYPE=image/png:https://geldleben.at/wp-content/uploads/2024/05/4.png
END:VEVENT
BEGIN:VEVENT
DTSTART;TZID=Europe/Berlin:20240919T170000
DTEND;TZID=Europe/Berlin:20240919T190000
DTSTAMP:20260421T150551
CREATED:20240807T130800Z
LAST-MODIFIED:20240808T131115Z
UID:4057-1726765200-1726772400@geldleben.at
SUMMARY:Zu viel Monat am Ende des Geldes
DESCRIPTION:Wer kennt das nicht? Das Geld am Konto ist beinahe verbraucht\, doch wir schreiben erst Mitte des Monats. Wir möchten dir praktische Tipps und einfache Werkzeuge für deinen Alltag mitgeben\, mit denen es dir gelingt\, bessere finanzielle Entscheidungen zu treffen und ein gutes Geldleben zu führen. \nIm Rahmen des Workshops beschäftigen uns konkret mit folgenden Fragen: \n\nWie behalte ich einfach und effizient den Überblick über meine Einnahmen und Ausgaben?\nWie kann ich schnell und unkompliziert meine Einnahmen erhöhen und meine Ausgaben reduzieren?\nWie kann ich bei meiner Budgetplanung für unerwartete Ausgaben gut vorsorgen?\n\nDie Inhalte werden mit praktischen Übungen und interaktiven Methoden vermittelt\, sodass diese nach dem Workshop direkt im Alltag anwendbar sind.
URL:https://geldleben.at/workshop/zu-viel-monat-am-ende-des-geldes-1909/
LOCATION:Online-Workshop
ATTACH;FMTTYPE=image/png:https://geldleben.at/wp-content/uploads/2024/05/Icons-Workshopprogramm-Website.png
END:VEVENT
BEGIN:VEVENT
DTSTART;TZID=Europe/Berlin:20240924T140000
DTEND;TZID=Europe/Berlin:20240924T163000
DTSTAMP:20260421T150551
CREATED:20240807T131445Z
LAST-MODIFIED:20240820T074222Z
UID:4060-1727186400-1727195400@geldleben.at
SUMMARY:Happy Birthday Geldleben Wien!
DESCRIPTION:Feiert mit uns ein Jahr Bildung & Beratung Geldleben. Unsere Türen stehen an diesem Tag offen für alle. Wir freuen uns auf ein gemütliches Zusammenkommen – für eine kleine Verpflegung ist gesorgt. \nEine Anmeldung ist nicht notwendig. Von 14:00 bis 16:30 Uhr kannst du jederzeit vorbeikommen.
URL:https://geldleben.at/workshop/open-house-wien-0924/
LOCATION:Standort Wien\, Nußdorfer Straße 27\, Wien\, 1090
ATTACH;FMTTYPE=image/png:https://geldleben.at/wp-content/uploads/2024/08/Icons-Workshopprogramm-Website-5.png
END:VEVENT
BEGIN:VEVENT
DTSTART;TZID=Europe/Berlin:20240925T170000
DTEND;TZID=Europe/Berlin:20240925T190000
DTSTAMP:20260421T150551
CREATED:20240807T131639Z
LAST-MODIFIED:20240807T131639Z
UID:4064-1727283600-1727290800@geldleben.at
SUMMARY:Geldbewusste Frauen! Was ist für Frauen im Laufe ihres Geldlebens wichtig?
DESCRIPTION:Wollen Frauen wirklich weniger über Finanzen wissen als Männer? Natürlich nicht! \nDeswegen schauen wir uns gemeinsam an\, worauf Frauen besonders achten sollten: \n\nWelche Geldthemen sind in welcher Lebensphase wichtig?\nWie kann ich meine Selbstwirksamkeit in Bezug auf mein Geldleben stärken?\nWas bedeutet Pensionslücke und Pensionssplitting?\n\n  \nAnmerkung: Dieser Workshop richtet sich ausschließlich an Frauen und weiblich sozialisierte Personen.
URL:https://geldleben.at/workshop/geldbewusste-frauen-2509/
LOCATION:Online-Workshop
ATTACH;FMTTYPE=image/png:https://geldleben.at/wp-content/uploads/2024/05/7.png
END:VEVENT
END:VCALENDAR