BEGIN:VCALENDAR
VERSION:2.0
PRODID:-//Geldleben - ECPv6.15.18//NONSGML v1.0//EN
CALSCALE:GREGORIAN
METHOD:PUBLISH
X-ORIGINAL-URL:https://geldleben.at
X-WR-CALDESC:Veranstaltungen für Geldleben
REFRESH-INTERVAL;VALUE=DURATION:PT1H
X-Robots-Tag:noindex
X-PUBLISHED-TTL:PT1H
BEGIN:VTIMEZONE
TZID:Europe/Berlin
BEGIN:DAYLIGHT
TZOFFSETFROM:+0100
TZOFFSETTO:+0200
TZNAME:CEST
DTSTART:20230326T010000
END:DAYLIGHT
BEGIN:STANDARD
TZOFFSETFROM:+0200
TZOFFSETTO:+0100
TZNAME:CET
DTSTART:20231029T010000
END:STANDARD
BEGIN:DAYLIGHT
TZOFFSETFROM:+0100
TZOFFSETTO:+0200
TZNAME:CEST
DTSTART:20240331T010000
END:DAYLIGHT
BEGIN:STANDARD
TZOFFSETFROM:+0200
TZOFFSETTO:+0100
TZNAME:CET
DTSTART:20241027T010000
END:STANDARD
BEGIN:DAYLIGHT
TZOFFSETFROM:+0100
TZOFFSETTO:+0200
TZNAME:CEST
DTSTART:20250330T010000
END:DAYLIGHT
BEGIN:STANDARD
TZOFFSETFROM:+0200
TZOFFSETTO:+0100
TZNAME:CET
DTSTART:20251026T010000
END:STANDARD
END:VTIMEZONE
BEGIN:VEVENT
DTSTART;TZID=Europe/Berlin:20241001T130000
DTEND;TZID=Europe/Berlin:20241001T180000
DTSTAMP:20260421T133958
CREATED:20240807T131826Z
LAST-MODIFIED:20240820T074319Z
UID:4067-1727787600-1727805600@geldleben.at
SUMMARY:Happy Birthday Geldleben Graz!
DESCRIPTION:Feiert mit uns ein Jahr Bildung & Beratung Geldleben. Unsere Türen stehen an diesem Tag offen für alle. Wir freuen uns auf ein gemütliches Zusammenkommen – für eine kleine Verpflegung ist gesorgt.  \nEine Anmeldung ist nicht notwendig. Von 13:00 bis 18:00 Uhr kannst du jederzeit vorbeikommen.
URL:https://geldleben.at/workshop/open-house-graz-1024/
LOCATION:Standort Graz\, Sackstraße 36\, Graz\, 8010
ATTACH;FMTTYPE=image/png:https://geldleben.at/wp-content/uploads/2024/08/Icons-Workshopprogramm-Website-5.png
END:VEVENT
BEGIN:VEVENT
DTSTART;TZID=Europe/Berlin:20241001T170000
DTEND;TZID=Europe/Berlin:20241001T180000
DTSTAMP:20260421T133958
CREATED:20240807T132928Z
LAST-MODIFIED:20240808T114552Z
UID:4069-1727802000-1727805600@geldleben.at
SUMMARY:Das liebe Geld
DESCRIPTION:Für viele Menschen ist das Thema Geld eine starke Belastung. \nWir bieten einen sicheren Rahmen\, sich mit anderen auszutauschen\, denen es ähnlich geht\, sich dabei gegenseitig zu stärken und gleichzeitig von den Erfahrungen und Lösungsansätzen anderer zu profitieren. \nDieses Angebot richtet sich an alle\, die das Thema Geld mit Stress und Sorgen verbinden.
URL:https://geldleben.at/workshop/das-liebe-geld-0110/
LOCATION:Standort Wien\, Nußdorfer Straße 27\, Wien\, 1090
ATTACH;FMTTYPE=image/png:https://geldleben.at/wp-content/uploads/2024/07/Icons-Workshopprogramm-Website-1.png
END:VEVENT
BEGIN:VEVENT
DTSTART;TZID=Europe/Berlin:20241008T183000
DTEND;TZID=Europe/Berlin:20241008T203000
DTSTAMP:20260421T133958
CREATED:20240819T083334Z
LAST-MODIFIED:20240918T100013Z
UID:4098-1728412200-1728419400@geldleben.at
SUMMARY:Mit Kindern über Geld sprechen
DESCRIPTION:Die meisten Menschen lernen den Umgang mit Geld – wenn überhaupt – in der Familie. In diesem Seminar beschäftigen wir uns daher damit\, welche Fertigkeiten für Finanzkompetenz wichtig sind\, wie man sie im Alltag vermittelt und gehen speziell auf das Thema Taschengeld ein. \nDieses Seminar richtet sich v.a. an Eltern oder Bezugspersonen von Kindern zwischen 3 und 10 Jahren. \n  \nDiese Veranstaltung wird ermöglicht durch die Unterstützung des EVN Sozialfonds.
URL:https://geldleben.at/workshop/mit-kindern-ueber-geld-sprechen-1024/
LOCATION:VHS St. Pölten\, Kolpingstraße 1\, St. Pölten\, 3100\, Österreich
ATTACH;FMTTYPE=image/png:https://geldleben.at/wp-content/uploads/2024/05/8.png
END:VEVENT
BEGIN:VEVENT
DTSTART;TZID=Europe/Berlin:20241010T200000
DTEND;TZID=Europe/Berlin:20241010T213000
DTSTAMP:20260421T133958
CREATED:20240807T133123Z
LAST-MODIFIED:20240903T110451Z
UID:4072-1728590400-1728595800@geldleben.at
SUMMARY:Alleinerziehend sein - womit kann ich rechnen?
DESCRIPTION:Die finanziellen Herausforderungen als Alleinerziehende*r können überwältigend sein. In diesem Workshop erhältst du einfache Werkzeuge\, um im stressigen Alltag den Überblick über dein Geld zu behalten\, und bekommst praktische Tipps zum Sparen und Vorsorgen. \nGemeinsam sehen wir uns an\, welche finanziellen Unterstützungen es in den Bereichen Wohnen\, Kinderbetreuung und Freizeit gibt. In einem geschützten Raum hast du die Möglichkeit\, dich mit anderen Alleinerziehenden auszutauschen und Erfahrungen zu teilen.
URL:https://geldleben.at/workshop/alleinerziehend-sein-womit-kann-ich-rechnen/
LOCATION:Online-Workshop
ATTACH;FMTTYPE=image/png:https://geldleben.at/wp-content/uploads/2024/05/8.png
END:VEVENT
BEGIN:VEVENT
DTSTART;TZID=Europe/Berlin:20241015T160000
DTEND;TZID=Europe/Berlin:20241015T190000
DTSTAMP:20260421T133958
CREATED:20240807T133330Z
LAST-MODIFIED:20240807T133352Z
UID:4075-1729008000-1729018800@geldleben.at
SUMMARY:Modul 5: Was kostet das Leben? (für Jugendliche)
DESCRIPTION:Zum ersten Mal eigenes Geld zu verdienen und nicht mehr nur aufs Taschengeld angewiesen zu sein – das fühlt sich richtig gut an. Leider vergeht das gute Gefühl oft\, wenn man merkt\, wie teuer das Leben eigentlich ist. Das kann ganz schön frustrierend sein\, wenn man sich eigentlich viele coole Dinge kaufen möchte\, aber das Geld dafür nicht immer ausreicht.\nDeswegen beschäftigen wir uns in diesem Workshop mit den Fragen:\n\nWo kommt das Geld her und wo fließt es hin?\nWas kostet das Leben? Was kommt auf mich zu\, wenn ich nicht mehr zuhause wohne?\n\nDer Workshop richtet sich an Jugendliche\, die in naher Zukunft ihr eigenes Geld verdienen werden oder einfach wissen möchten\, was das Leben so kostet.
URL:https://geldleben.at/workshop/modul-4-was-kostet-das-leben-1510/
LOCATION:Online-Workshop
ATTACH;FMTTYPE=image/png:https://geldleben.at/wp-content/uploads/2024/05/4.png
END:VEVENT
BEGIN:VEVENT
DTSTART;TZID=Europe/Berlin:20241017T170000
DTEND;TZID=Europe/Berlin:20241017T190000
DTSTAMP:20260421T133958
CREATED:20240807T133507Z
LAST-MODIFIED:20240819T092733Z
UID:4078-1729184400-1729191600@geldleben.at
SUMMARY:Das Sparbuch hat ausgedient? Wie wir sinnvoll sparen.
DESCRIPTION:Sparen ist immer im Trend – schließlich hat jede*r von uns Wünsche und Träume\, die sich nicht einfach nebenbei bezahlen lassen.  Und um die Altersvorsorge sollten wir uns ja auch noch kümmern. Aber wie spart man am sinnvollsten? Welche Sparformen gibt es überhaupt? Und was sind diese ETFs\, von denen immer alle reden?\nDiesen und weiteren Fragen rund ums Sparen und die Altersvorsorge gehen wir in diesem Workshop auf den Grund.
URL:https://geldleben.at/workshop/das-sparbuch-hat-ausgedient-1710/
LOCATION:Online-Workshop
ATTACH;FMTTYPE=image/png:https://geldleben.at/wp-content/uploads/2024/05/6.png
END:VEVENT
BEGIN:VEVENT
DTSTART;TZID=Europe/Berlin:20241023T190000
DTEND;TZID=Europe/Berlin:20241023T200000
DTSTAMP:20260421T133958
CREATED:20240807T133713Z
LAST-MODIFIED:20240819T084223Z
UID:4081-1729710000-1729713600@geldleben.at
SUMMARY:Mit Kindern über Geld sprechen
DESCRIPTION:Die meisten Menschen lernen den Umgang mit Geld – wenn überhaupt – in der Familie. In diesem Seminar beschäftigen wir uns daher damit\, welche Fertigkeiten für Finanzkompetenz wichtig sind\, wie man sie im Alltag vermittelt und gehen speziell auf das Thema Taschengeld ein. \nDieses Online-Seminar richtet sich v.a. an Eltern oder Bezugspersonen von Kindern zwischen 3 und 10 Jahren. \n  \nDiese Veranstaltung wird ermöglicht durch die Unterstützung des EVN Sozialfonds.
URL:https://geldleben.at/workshop/mit-kindern-ueber-geld-sprechen-2310/
LOCATION:Online-Workshop
ATTACH;FMTTYPE=image/png:https://geldleben.at/wp-content/uploads/2024/05/8.png
END:VEVENT
BEGIN:VEVENT
DTSTART;TZID=Europe/Berlin:20241024T090000
DTEND;TZID=Europe/Berlin:20241024T110000
DTSTAMP:20260421T133958
CREATED:20240819T093459Z
LAST-MODIFIED:20240819T093459Z
UID:4122-1729760400-1729767600@geldleben.at
SUMMARY:Modul 1: Was kostet das Leben? (für Jugendliche)
DESCRIPTION:Zum ersten Mal eigenes Geld zu verdienen und nicht mehr nur aufs Taschengeld angewiesen zu sein – das fühlt sich richtig gut an. Leider vergeht das gute Gefühl oft\, wenn man merkt\, wie teuer das Leben eigentlich ist. Das kann ganz schön frustrierend sein\, wenn man sich eigentlich viele coole Dinge kaufen möchte\, aber das Geld dafür nicht immer ausreicht.\nDeswegen beschäftigen wir uns in diesem Workshop mit den Fragen:\n\nWo kommt das Geld her und wo fließt es hin?\nWas kostet das Leben? Was kommt auf mich zu\, wenn ich nicht mehr zuhause wohne?\n\nDer Workshop richtet sich an Jugendliche\, die in naher Zukunft ihr eigenes Geld verdienen werden oder einfach wissen möchten\, was das Leben so kostet.
URL:https://geldleben.at/workshop/modul-1-was-kostet-das-leben-1024/
LOCATION:Standort Graz\, Sackstraße 36\, Graz\, 8010
ATTACH;FMTTYPE=image/png:https://geldleben.at/wp-content/uploads/2024/05/4.png
END:VEVENT
BEGIN:VEVENT
DTSTART;TZID=Europe/Berlin:20241030T100000
DTEND;TZID=Europe/Berlin:20241030T120000
DTSTAMP:20260421T133958
CREATED:20240918T102536Z
LAST-MODIFIED:20240918T102536Z
UID:4441-1730282400-1730289600@geldleben.at
SUMMARY:Zu viel Monat am Ende des Geldes
DESCRIPTION:Wer kennt das nicht? Das Geld am Konto ist beinahe verbraucht\, doch wir schreiben erst Mitte des Monats. Wir möchten dir praktische Tipps und einfache Werkzeuge für deinen Alltag mitgeben\, mit denen es dir gelingt\, bessere finanzielle Entscheidungen zu treffen und ein gutes Geldleben zu führen. \nIm Rahmen des Workshops beschäftigen uns konkret mit folgenden Fragen: \n\nWie behalte ich einfach und effizient den Überblick über meine Einnahmen und Ausgaben?\nWie kann ich schnell und unkompliziert meine Einnahmen erhöhen und meine Ausgaben reduzieren?\nWie kann ich bei meiner Budgetplanung für unerwartete Ausgaben gut vorsorgen?\n\nDie Inhalte werden mit praktischen Übungen und interaktiven Methoden vermittelt\, sodass diese nach dem Workshop direkt im Alltag anwendbar sind.
URL:https://geldleben.at/workshop/zu-viel-monat-1024/
LOCATION:Standort Wien\, Nußdorfer Straße 27\, Wien\, 1090
ATTACH;FMTTYPE=image/png:https://geldleben.at/wp-content/uploads/2024/05/Icons-Workshopprogramm-Website.png
END:VEVENT
END:VCALENDAR