BEGIN:VCALENDAR
VERSION:2.0
PRODID:-//Geldleben - ECPv6.15.18//NONSGML v1.0//EN
CALSCALE:GREGORIAN
METHOD:PUBLISH
X-WR-CALNAME:Geldleben
X-ORIGINAL-URL:https://geldleben.at
X-WR-CALDESC:Veranstaltungen für Geldleben
REFRESH-INTERVAL;VALUE=DURATION:PT1H
X-Robots-Tag:noindex
X-PUBLISHED-TTL:PT1H
BEGIN:VTIMEZONE
TZID:Europe/Berlin
BEGIN:DAYLIGHT
TZOFFSETFROM:+0100
TZOFFSETTO:+0200
TZNAME:CEST
DTSTART:20230326T010000
END:DAYLIGHT
BEGIN:STANDARD
TZOFFSETFROM:+0200
TZOFFSETTO:+0100
TZNAME:CET
DTSTART:20231029T010000
END:STANDARD
BEGIN:DAYLIGHT
TZOFFSETFROM:+0100
TZOFFSETTO:+0200
TZNAME:CEST
DTSTART:20240331T010000
END:DAYLIGHT
BEGIN:STANDARD
TZOFFSETFROM:+0200
TZOFFSETTO:+0100
TZNAME:CET
DTSTART:20241027T010000
END:STANDARD
BEGIN:DAYLIGHT
TZOFFSETFROM:+0100
TZOFFSETTO:+0200
TZNAME:CEST
DTSTART:20250330T010000
END:DAYLIGHT
BEGIN:STANDARD
TZOFFSETFROM:+0200
TZOFFSETTO:+0100
TZNAME:CET
DTSTART:20251026T010000
END:STANDARD
END:VTIMEZONE
BEGIN:VEVENT
DTSTART;TZID=Europe/Berlin:20241107T163000
DTEND;TZID=Europe/Berlin:20241107T183000
DTSTAMP:20260421T115928
CREATED:20240819T093249Z
LAST-MODIFIED:20240819T093249Z
UID:4119-1730997000-1731004200@geldleben.at
SUMMARY:Das Sparbuch hat ausgedient? Wie wir sinnvoll sparen.
DESCRIPTION:Sparen ist immer im Trend – schließlich hat jede*r von uns Wünsche und Träume\, die sich nicht einfach nebenbei bezahlen lassen.  Und um die Altersvorsorge sollten wir uns ja auch noch kümmern. Aber wie spart man am sinnvollsten? Welche Sparformen gibt es überhaupt? Und was sind diese ETFs\, von denen immer alle reden?\nDiesen und weiteren Fragen rund ums Sparen und die Altersvorsorge gehen wir in diesem Workshop auf den Grund.
URL:https://geldleben.at/workshop/das-sparbuch-hat-ausgedient-1124/
LOCATION:Standort Graz\, Sackstraße 36\, Graz\, 8010
ATTACH;FMTTYPE=image/png:https://geldleben.at/wp-content/uploads/2024/05/6.png
END:VEVENT
BEGIN:VEVENT
DTSTART;TZID=Europe/Berlin:20241111T100000
DTEND;TZID=Europe/Berlin:20241111T120000
DTSTAMP:20260421T115928
CREATED:20241010T112750Z
LAST-MODIFIED:20241010T112907Z
UID:4489-1731319200-1731326400@geldleben.at
SUMMARY:Modul 2: Was kostet das Leben? (für Jugendliche)
DESCRIPTION:Zum ersten Mal eigenes Geld zu verdienen und nicht mehr nur aufs Taschengeld angewiesen zu sein – das fühlt sich richtig gut an. Leider vergeht das gute Gefühl oft\, wenn man merkt\, wie teuer das Leben eigentlich ist. Das kann ganz schön frustrierend sein\, wenn man sich eigentlich viele coole Dinge kaufen möchte\, aber das Geld dafür nicht immer ausreicht.\nDeswegen beschäftigen wir uns in diesem Workshop mit den Fragen:\n\nWo kommt das Geld her und wo fließt es hin?\nWas kostet das Leben? Was kommt auf mich zu\, wenn ich nicht mehr zuhause wohne?\n\nDer Workshop richtet sich an Jugendliche\, die in naher Zukunft ihr eigenes Geld verdienen werden oder einfach wissen möchten\, was das Leben so kostet.
URL:https://geldleben.at/workshop/modul-2-was-kostet-das-leben-2411/
LOCATION:VHS St. Pölten\, Kolpingstraße 1\, St. Pölten\, 3100\, Österreich
ATTACH;FMTTYPE=image/png:https://geldleben.at/wp-content/uploads/2024/05/4.png
END:VEVENT
BEGIN:VEVENT
DTSTART;TZID=Europe/Berlin:20241113T150000
DTEND;TZID=Europe/Berlin:20241113T180000
DTSTAMP:20260421T115928
CREATED:20241010T113810Z
LAST-MODIFIED:20241010T113810Z
UID:4493-1731510000-1731520800@geldleben.at
SUMMARY:Zu viel Monat am Ende des Geldes
DESCRIPTION:Wer kennt das nicht? Das Geld am Konto ist beinahe verbraucht\, doch wir schreiben erst Mitte des Monats. Wir möchten dir praktische Tipps und einfache Werkzeuge für deinen Alltag mitgeben\, mit denen es dir gelingt\, bessere finanzielle Entscheidungen zu treffen und ein gutes Geldleben zu führen. \nIm Rahmen des Workshops beschäftigen uns konkret mit folgenden Fragen: \n\nWie behalte ich einfach und effizient den Überblick über meine Einnahmen und Ausgaben?\nWie kann ich schnell und unkompliziert meine Einnahmen erhöhen und meine Ausgaben reduzieren?\nWie kann ich bei meiner Budgetplanung für unerwartete Ausgaben gut vorsorgen?\n\nDie Inhalte werden mit praktischen Übungen und interaktiven Methoden vermittelt\, sodass diese nach dem Workshop direkt im Alltag anwendbar sind.
URL:https://geldleben.at/workshop/zu-viel-monat-am-ende-des-geldes-2411/
LOCATION:Standort Wien\, Nußdorfer Straße 27\, Wien\, 1090
ATTACH;FMTTYPE=image/png:https://geldleben.at/wp-content/uploads/2024/05/Icons-Workshopprogramm-Website.png
END:VEVENT
BEGIN:VEVENT
DTSTART;TZID=Europe/Berlin:20241114T090000
DTEND;TZID=Europe/Berlin:20241114T110000
DTSTAMP:20260421T115928
CREATED:20240819T092525Z
LAST-MODIFIED:20240819T092525Z
UID:4115-1731574800-1731582000@geldleben.at
SUMMARY:Modul 6: Was kostet das Leben? (für Jugendliche)
DESCRIPTION:Zum ersten Mal eigenes Geld zu verdienen und nicht mehr nur aufs Taschengeld angewiesen zu sein – das fühlt sich richtig gut an. Leider vergeht das gute Gefühl oft\, wenn man merkt\, wie teuer das Leben eigentlich ist. Das kann ganz schön frustrierend sein\, wenn man sich eigentlich viele coole Dinge kaufen möchte\, aber das Geld dafür nicht immer ausreicht.\nDeswegen beschäftigen wir uns in diesem Workshop mit den Fragen:\n\nWo kommt das Geld her und wo fließt es hin?\nWas kostet das Leben? Was kommt auf mich zu\, wenn ich nicht mehr zuhause wohne?\n\nDer Workshop richtet sich an Jugendliche\, die in naher Zukunft ihr eigenes Geld verdienen werden oder einfach wissen möchten\, was das Leben so kostet.
URL:https://geldleben.at/workshop/modul-6-was-kostet-das-leben-1124/
LOCATION:Standort Graz\, Sackstraße 36\, Graz\, 8010
ATTACH;FMTTYPE=image/png:https://geldleben.at/wp-content/uploads/2024/05/4.png
END:VEVENT
BEGIN:VEVENT
DTSTART;TZID=Europe/Berlin:20241114T190000
DTEND;TZID=Europe/Berlin:20241114T200000
DTSTAMP:20260421T115928
CREATED:20240819T083724Z
LAST-MODIFIED:20240819T084125Z
UID:4102-1731610800-1731614400@geldleben.at
SUMMARY:Mit Kindern über Geld sprechen
DESCRIPTION:Die meisten Menschen lernen den Umgang mit Geld – wenn überhaupt – in der Familie. In diesem Seminar beschäftigen wir uns daher damit\, welche Fertigkeiten für Finanzkompetenz wichtig sind\, wie man sie im Alltag vermittelt und gehen speziell auf das Thema Taschengeld ein. \nDieses Online-Seminar richtet sich v.a. an Eltern oder Bezugspersonen von Kindern zwischen 3 und 10 Jahren. \n  \nDiese Veranstaltung wird ermöglicht durch die Unterstützung des EVN Sozialfonds.
URL:https://geldleben.at/workshop/mit-kindern-ueber-geld-sprechen-1124/
LOCATION:Online-Workshop
ATTACH;FMTTYPE=image/png:https://geldleben.at/wp-content/uploads/2024/05/8.png
END:VEVENT
BEGIN:VEVENT
DTSTART;TZID=Europe/Berlin:20241121T090000
DTEND;TZID=Europe/Berlin:20241121T120000
DTSTAMP:20260421T115928
CREATED:20241010T114109Z
LAST-MODIFIED:20241010T114109Z
UID:4496-1732179600-1732190400@geldleben.at
SUMMARY:Geldbewusst durchs Studium - Was Studierende über Finanzen wissen sollten
DESCRIPTION:
URL:https://geldleben.at/workshop/geldbewusst-durchs-studium-2411/
LOCATION:Standort Graz\, Sackstraße 36\, Graz\, 8010
ATTACH;FMTTYPE=image/png:https://geldleben.at/wp-content/uploads/2024/05/7.png
END:VEVENT
BEGIN:VEVENT
DTSTART;TZID=Europe/Berlin:20241121T150000
DTEND;TZID=Europe/Berlin:20241121T170000
DTSTAMP:20260421T115928
CREATED:20241010T114331Z
LAST-MODIFIED:20241010T114331Z
UID:4499-1732201200-1732208400@geldleben.at
SUMMARY:Spielenachmittag Schotterbande
DESCRIPTION:Die SCHOTTERBANDE ist DAS Spiel für den Einstieg ins Geldleben. \nDas kooperative Gesellschaftsspiel für Kinder im Alter zwischen 6 und 10 Jahren fesselt mit einer spannenden Superheld*innen-Geschichte und vermittelt ganz nebenbei wichtige Fertigkeiten im Umgang mit Geld. \nErgänzt wird das Spiel durch ein Begleitheft für Erwachsene mit grundlegenden Informationen zu Finanzkompetenz sowie jeder Menge Ideen für weiterführende Aktivitäten zum Thema Geld.
URL:https://geldleben.at/workshop/spielenachmittag-schotterbande-2411/
LOCATION:Standort Wien\, Nußdorfer Straße 27\, Wien\, 1090
ATTACH;FMTTYPE=image/png:https://geldleben.at/wp-content/uploads/2024/05/5.png
END:VEVENT
BEGIN:VEVENT
DTSTART;TZID=Europe/Berlin:20241126T090000
DTEND;TZID=Europe/Berlin:20241126T110000
DTSTAMP:20260421T115928
CREATED:20240819T092237Z
LAST-MODIFIED:20240819T092237Z
UID:4112-1732611600-1732618800@geldleben.at
SUMMARY:Geldbewusste Frauen! Was ist für Frauen im Laufe ihres Geldlebens wichtig?
DESCRIPTION:Wollen Frauen wirklich weniger über Finanzen wissen als Männer? Natürlich nicht! \nDeswegen schauen wir uns gemeinsam an\, worauf Frauen besonders achten sollten: \n\nWelche Geldthemen sind in welcher Lebensphase wichtig?\nWie kann ich meine Selbstwirksamkeit in Bezug auf mein Geldleben stärken?\nWas bedeutet Pensionslücke und Pensionssplitting?\n\n  \nAnmerkung: Dieser Workshop richtet sich ausschließlich an Frauen und weiblich sozialisierte Personen.
URL:https://geldleben.at/workshop/geldbewusste-frauen-1124/
LOCATION:Standort Graz\, Sackstraße 36\, Graz\, 8010
ATTACH;FMTTYPE=image/png:https://geldleben.at/wp-content/uploads/2024/05/7.png
END:VEVENT
BEGIN:VEVENT
DTSTART;TZID=Europe/Berlin:20241126T150000
DTEND;TZID=Europe/Berlin:20241126T170000
DTSTAMP:20260421T115928
CREATED:20241010T114447Z
LAST-MODIFIED:20241010T114447Z
UID:4502-1732633200-1732640400@geldleben.at
SUMMARY:Spielenachmittag: Schotterbande
DESCRIPTION:Die SCHOTTERBANDE ist DAS Spiel für den Einstieg ins Geldleben. \nDas kooperative Gesellschaftsspiel für Kinder im Alter zwischen 6 und 10 Jahren fesselt mit einer spannenden Superheld*innen-Geschichte und vermittelt ganz nebenbei wichtige Fertigkeiten im Umgang mit Geld. \nErgänzt wird das Spiel durch ein Begleitheft für Erwachsene mit grundlegenden Informationen zu Finanzkompetenz sowie jeder Menge Ideen für weiterführende Aktivitäten zum Thema Geld.
URL:https://geldleben.at/workshop/spielenachmittag-schotterbande-241126/
LOCATION:Standort Wien\, Nußdorfer Straße 27\, Wien\, 1090
ATTACH;FMTTYPE=image/png:https://geldleben.at/wp-content/uploads/2024/05/5.png
END:VEVENT
BEGIN:VEVENT
DTSTART;TZID=Europe/Berlin:20241127T180000
DTEND;TZID=Europe/Berlin:20241127T200000
DTSTAMP:20260421T115928
CREATED:20241010T114747Z
LAST-MODIFIED:20241010T125419Z
UID:4506-1732730400-1732737600@geldleben.at
SUMMARY:Mit Kindern über Geld sprechen
DESCRIPTION:Die meisten Menschen lernen den Umgang mit Geld – wenn überhaupt – in der Familie. In diesem Seminar beschäftigen wir uns daher damit\, welche Fertigkeiten für Finanzkompetenz wichtig sind\, wie man sie im Alltag vermittelt und gehen speziell auf das Thema Taschengeld ein. \nDieses Online-Seminar richtet sich v.a. an Eltern oder Bezugspersonen von Kindern zwischen 3 und 10 Jahren. \n  \nDiese Veranstaltung wird ermöglicht durch die Unterstützung des Bundeskanzleramts.
URL:https://geldleben.at/workshop/mit-kindern-ueber-geld-sprechen-241127/
LOCATION:Standort Graz\, Sackstraße 36\, Graz\, 8010
ATTACH;FMTTYPE=image/png:https://geldleben.at/wp-content/uploads/2024/05/8.png
END:VEVENT
BEGIN:VEVENT
DTSTART;TZID=Europe/Berlin:20241128T093000
DTEND;TZID=Europe/Berlin:20241128T123000
DTSTAMP:20260421T115928
CREATED:20241010T125606Z
LAST-MODIFIED:20241010T125606Z
UID:4509-1732786200-1732797000@geldleben.at
SUMMARY:Modul 3: Was kostet das Leben? (für Jugendliche)
DESCRIPTION:Zum ersten Mal eigenes Geld zu verdienen und nicht mehr nur aufs Taschengeld angewiesen zu sein – das fühlt sich richtig gut an. Leider vergeht das gute Gefühl oft\, wenn man merkt\, wie teuer das Leben eigentlich ist. Das kann ganz schön frustrierend sein\, wenn man sich eigentlich viele coole Dinge kaufen möchte\, aber das Geld dafür nicht immer ausreicht.\nDeswegen beschäftigen wir uns in diesem Workshop mit den Fragen:\n\nWo kommt das Geld her und wo fließt es hin?\nWas kostet das Leben? Was kommt auf mich zu\, wenn ich nicht mehr zuhause wohne?\n\nDer Workshop richtet sich an Jugendliche\, die in naher Zukunft ihr eigenes Geld verdienen werden oder einfach wissen möchten\, was das Leben so kostet.
URL:https://geldleben.at/workshop/modul-3-was-kostet-das-leben-241128/
LOCATION:Online-Workshop
ATTACH;FMTTYPE=image/png:https://geldleben.at/wp-content/uploads/2024/05/4.png
END:VEVENT
END:VCALENDAR