BEGIN:VCALENDAR
VERSION:2.0
PRODID:-//Geldleben - ECPv6.15.18//NONSGML v1.0//EN
CALSCALE:GREGORIAN
METHOD:PUBLISH
X-ORIGINAL-URL:https://geldleben.at
X-WR-CALDESC:Veranstaltungen für Geldleben
REFRESH-INTERVAL;VALUE=DURATION:PT1H
X-Robots-Tag:noindex
X-PUBLISHED-TTL:PT1H
BEGIN:VTIMEZONE
TZID:Europe/Berlin
BEGIN:DAYLIGHT
TZOFFSETFROM:+0100
TZOFFSETTO:+0200
TZNAME:CEST
DTSTART:20230326T010000
END:DAYLIGHT
BEGIN:STANDARD
TZOFFSETFROM:+0200
TZOFFSETTO:+0100
TZNAME:CET
DTSTART:20231029T010000
END:STANDARD
BEGIN:DAYLIGHT
TZOFFSETFROM:+0100
TZOFFSETTO:+0200
TZNAME:CEST
DTSTART:20240331T010000
END:DAYLIGHT
BEGIN:STANDARD
TZOFFSETFROM:+0200
TZOFFSETTO:+0100
TZNAME:CET
DTSTART:20241027T010000
END:STANDARD
BEGIN:DAYLIGHT
TZOFFSETFROM:+0100
TZOFFSETTO:+0200
TZNAME:CEST
DTSTART:20250330T010000
END:DAYLIGHT
BEGIN:STANDARD
TZOFFSETFROM:+0200
TZOFFSETTO:+0100
TZNAME:CET
DTSTART:20251026T010000
END:STANDARD
END:VTIMEZONE
BEGIN:VEVENT
DTSTART;TZID=Europe/Berlin:20241204T183000
DTEND;TZID=Europe/Berlin:20241204T203000
DTSTAMP:20260421T102821
CREATED:20241010T125959Z
LAST-MODIFIED:20241010T130348Z
UID:4512-1733337000-1733344200@geldleben.at
SUMMARY:Mit Kindern über Geld sprechen
DESCRIPTION:Die meisten Menschen lernen den Umgang mit Geld – wenn überhaupt – in der Familie. In diesem Seminar beschäftigen wir uns daher damit\, welche Fertigkeiten für Finanzkompetenz wichtig sind\, wie man sie im Alltag vermittelt und gehen speziell auf das Thema Taschengeld ein. \nDieses Online-Seminar richtet sich v.a. an Eltern oder Bezugspersonen von Kindern zwischen 3 und 10 Jahren. \n👉 Anmeldung über die VHS St. Pölten. \nDiese Veranstaltung wird ermöglicht durch die Unterstützung des EVN Sozialfonds.
URL:https://geldleben.at/workshop/mit-kindern-ueber-geld-sprechen-241205/
LOCATION:VHS St. Pölten\, Kolpingstraße 1\, St. Pölten\, 3100\, Österreich
ATTACH;FMTTYPE=image/png:https://geldleben.at/wp-content/uploads/2024/05/8.png
END:VEVENT
BEGIN:VEVENT
DTSTART;TZID=Europe/Berlin:20241205T170000
DTEND;TZID=Europe/Berlin:20241205T190000
DTSTAMP:20260421T102821
CREATED:20241010T130607Z
LAST-MODIFIED:20241010T130607Z
UID:4516-1733418000-1733425200@geldleben.at
SUMMARY:Das Sparbuch hat ausgedient? Wie wir sinnvoll sparen.
DESCRIPTION:Sparen ist immer im Trend – schließlich hat jede*r von uns Wünsche und Träume\, die sich nicht einfach nebenbei bezahlen lassen.  Und um die Altersvorsorge sollten wir uns ja auch noch kümmern. Aber wie spart man am sinnvollsten? Welche Sparformen gibt es überhaupt? Und was sind diese ETFs\, von denen immer alle reden?\nDiesen und weiteren Fragen rund ums Sparen und die Altersvorsorge gehen wir in diesem Workshop auf den Grund.
URL:https://geldleben.at/workshop/das-sparbuch-hat-ausgedient-2412/
LOCATION:Online-Workshop
ATTACH;FMTTYPE=image/png:https://geldleben.at/wp-content/uploads/2024/05/6.png
END:VEVENT
BEGIN:VEVENT
DTSTART;TZID=Europe/Berlin:20241210T093000
DTEND;TZID=Europe/Berlin:20241210T123000
DTSTAMP:20260421T102821
CREATED:20241010T130834Z
LAST-MODIFIED:20241010T130834Z
UID:4519-1733823000-1733833800@geldleben.at
SUMMARY:Modul 3: Was kostet das Leben? (für Jugendliche)
DESCRIPTION:Zum ersten Mal eigenes Geld zu verdienen und nicht mehr nur aufs Taschengeld angewiesen zu sein – das fühlt sich richtig gut an. Leider vergeht das gute Gefühl oft\, wenn man merkt\, wie teuer das Leben eigentlich ist. Das kann ganz schön frustrierend sein\, wenn man sich eigentlich viele coole Dinge kaufen möchte\, aber das Geld dafür nicht immer ausreicht.\nDeswegen beschäftigen wir uns in diesem Workshop mit den Fragen:\n\nWo kommt das Geld her und wo fließt es hin?\nWas kostet das Leben? Was kommt auf mich zu\, wenn ich nicht mehr zuhause wohne?\n\nDer Workshop richtet sich an Jugendliche\, die in naher Zukunft ihr eigenes Geld verdienen werden oder einfach wissen möchten\, was das Leben so kostet.\n\nDiese Veranstaltung wird ermöglicht durch die Unterstützung des EVN Sozialfonds.
URL:https://geldleben.at/workshop/modul-4-was-kostet-das-leben-fuer-jugendliche-2412/
LOCATION:Online-Workshop
ATTACH;FMTTYPE=image/png:https://geldleben.at/wp-content/uploads/2024/05/4.png
END:VEVENT
BEGIN:VEVENT
DTSTART;TZID=Europe/Berlin:20241216T103000
DTEND;TZID=Europe/Berlin:20241216T131500
DTSTAMP:20260421T102821
CREATED:20241211T124414Z
LAST-MODIFIED:20241211T125503Z
UID:4705-1734345000-1734354900@geldleben.at
SUMMARY:Was kostet das Leben? (für Jugendliche)
DESCRIPTION:Zum ersten Mal eigenes Geld zu verdienen und nicht mehr nur aufs Taschengeld angewiesen zu sein – das fühlt sich richtig gut an. Leider vergeht das gute Gefühl oft\, wenn man merkt\, wie teuer das Leben eigentlich ist. Das kann ganz schön frustrierend sein\, wenn man sich eigentlich viele coole Dinge kaufen möchte\, aber das Geld dafür nicht immer ausreicht.\nDeswegen beschäftigen wir uns in diesem Workshop mit den Fragen:\n\nWo kommt das Geld her und wo fließt es hin?\nWas kostet das Leben? Was kommt auf mich zu\, wenn ich nicht mehr zuhause wohne?\n\nDer Workshop richtet sich an Jugendliche\, die in naher Zukunft ihr eigenes Geld verdienen werden oder einfach wissen möchten\, was das Leben so kostet.\n\nDiese Veranstaltung wird ermöglicht durch die Unterstützung des EVN Sozialfonds.
URL:https://geldleben.at/workshop/was-kostet-das-leben-fuer-jugendliche-6/
LOCATION:Standort St. Pölten\, Schreinergasse 11\, St. Pölten\, 3100
ATTACH;FMTTYPE=image/png:https://geldleben.at/wp-content/uploads/2024/05/4.png
END:VEVENT
BEGIN:VEVENT
DTSTART;TZID=Europe/Berlin:20241217T130000
DTEND;TZID=Europe/Berlin:20241217T180000
DTSTAMP:20260421T102821
CREATED:20241010T131113Z
LAST-MODIFIED:20241010T131246Z
UID:4522-1734440400-1734458400@geldleben.at
SUMMARY:Come as you are – Wir laden zu Geldleben Graz ein!
DESCRIPTION:Unsere Türen stehen an diesem Tag offen für alle! Wir nehmen uns Zeit für individuelle (Geld-)Fragen\, plaudern gemeinsam über Geldleben\, zeigen euch unseren Arbeitsplatz und trinken gemütlich einen Kaffee oder Tee zusammen. Auch Kinder sind herzlich willkommen – wir haben das Spiel SCHOTTERBANDE vorbereitet. \nWir freuen uns auf das Kennenlernen und den Austausch!\nEine Anmeldung ist nicht notwendig. Von 13:00 bis 18:00 Uhr kannst du jederzeit vorbeikommen.
URL:https://geldleben.at/workshop/tag-der-offenen-tuer-in-graz-2412/
LOCATION:Standort Graz\, Sackstraße 36\, Graz\, 8010
ATTACH;FMTTYPE=image/png:https://geldleben.at/wp-content/uploads/2024/05/2.png
END:VEVENT
END:VCALENDAR