BEGIN:VCALENDAR
VERSION:2.0
PRODID:-//Geldleben - ECPv6.15.18//NONSGML v1.0//EN
CALSCALE:GREGORIAN
METHOD:PUBLISH
X-WR-CALNAME:Geldleben
X-ORIGINAL-URL:https://geldleben.at
X-WR-CALDESC:Veranstaltungen für Geldleben
REFRESH-INTERVAL;VALUE=DURATION:PT1H
X-Robots-Tag:noindex
X-PUBLISHED-TTL:PT1H
BEGIN:VTIMEZONE
TZID:Europe/Berlin
BEGIN:DAYLIGHT
TZOFFSETFROM:+0100
TZOFFSETTO:+0200
TZNAME:CEST
DTSTART:20240331T010000
END:DAYLIGHT
BEGIN:STANDARD
TZOFFSETFROM:+0200
TZOFFSETTO:+0100
TZNAME:CET
DTSTART:20241027T010000
END:STANDARD
BEGIN:DAYLIGHT
TZOFFSETFROM:+0100
TZOFFSETTO:+0200
TZNAME:CEST
DTSTART:20250330T010000
END:DAYLIGHT
BEGIN:STANDARD
TZOFFSETFROM:+0200
TZOFFSETTO:+0100
TZNAME:CET
DTSTART:20251026T010000
END:STANDARD
BEGIN:DAYLIGHT
TZOFFSETFROM:+0100
TZOFFSETTO:+0200
TZNAME:CEST
DTSTART:20260329T010000
END:DAYLIGHT
BEGIN:STANDARD
TZOFFSETFROM:+0200
TZOFFSETTO:+0100
TZNAME:CET
DTSTART:20261025T010000
END:STANDARD
END:VTIMEZONE
BEGIN:VEVENT
DTSTART;TZID=Europe/Berlin:20250401T130000
DTEND;TZID=Europe/Berlin:20250401T150000
DTSTAMP:20260423T123521
CREATED:20250130T124107Z
LAST-MODIFIED:20250130T124212Z
UID:4923-1743512400-1743519600@geldleben.at
SUMMARY:Was kostet das Leben? (für Jugendliche)
DESCRIPTION:Zum ersten Mal eigenes Geld zu verdienen und nicht mehr nur aufs Taschengeld angewiesen zu sein – das fühlt sich richtig gut an. Leider vergeht das gute Gefühl oft\, wenn man merkt\, wie teuer das Leben eigentlich ist. Das kann ganz schön frustrierend sein\, wenn man sich eigentlich viele coole Dinge kaufen möchte\, aber das Geld dafür nicht immer ausreicht.\nDeswegen beschäftigen wir uns in diesem Workshop mit den Fragen:\n\nWo kommt das Geld her und wo fließt es hin?\nWas kostet das Leben? Was kommt auf mich zu\, wenn ich nicht mehr zuhause wohne?\n\nDer Workshop richtet sich an Jugendliche\, die in naher Zukunft ihr eigenes Geld verdienen werden oder einfach wissen möchten\, was das Leben so kostet.
URL:https://geldleben.at/workshop/was-kostet-das-leben-fuer-jugendliche-12/
LOCATION:Standort Wien\, Nußdorfer Straße 27\, Wien\, 1090
ATTACH;FMTTYPE=image/png:https://geldleben.at/wp-content/uploads/2024/05/4.png
END:VEVENT
BEGIN:VEVENT
DTSTART;TZID=Europe/Berlin:20250403T130000
DTEND;TZID=Europe/Berlin:20250403T180000
DTSTAMP:20260423T123521
CREATED:20250130T124358Z
LAST-MODIFIED:20250130T124510Z
UID:4926-1743685200-1743703200@geldleben.at
SUMMARY:Tag der offenen Tür in Graz
DESCRIPTION:Wir stellen uns vor und beantworten allgemeine und individuelle Fragen!\nWer sind wir? Was machen wir? Warum gibt es uns? Wer kann mit welchen Themen zu uns kommen? Herzlich Willkommen!
URL:https://geldleben.at/workshop/tag-der-offenen-tuer-in-graz-2/
LOCATION:Standort Graz\, Sackstraße 36\, Graz\, 8010
END:VEVENT
BEGIN:VEVENT
DTSTART;TZID=Europe/Berlin:20250404T090000
DTEND;TZID=Europe/Berlin:20250404T130000
DTSTAMP:20260423T123521
CREATED:20250130T124703Z
LAST-MODIFIED:20250130T125125Z
UID:4931-1743757200-1743771600@geldleben.at
SUMMARY:Offener Workshop und Beratung rund ums Thema Geld
DESCRIPTION:Wie komme ich mit meinem Geld besser aus? Wie erreiche ich finanzielle Ziele? Wie mache ich mich in Zukunft finanziell unabhängiger? \nGeld spielt eine große Rolle in unserem Leben – leider oft auf nicht so angenehme Weise. Wir helfen dabei\, das Bewusstsein für Geld zu schärfen und vermitteln die nötigen Grundlagen\, um gute finanzielle Entscheidungen treffen zu können: Für mehr finanzielle Selbstbestimmung und Unabhängigkeit.
URL:https://geldleben.at/workshop/offener-workshop-und-beratung-rund-ums-thema-geld-5/
LOCATION:Standort Wien\, Nußdorfer Straße 27\, Wien\, 1090
END:VEVENT
BEGIN:VEVENT
DTSTART;TZID=Europe/Berlin:20250408T130000
DTEND;TZID=Europe/Berlin:20250408T150000
DTSTAMP:20260423T123521
CREATED:20250130T124912Z
LAST-MODIFIED:20250130T125054Z
UID:4934-1744117200-1744124400@geldleben.at
SUMMARY:Was kostet das Leben? (für Jugendliche)
DESCRIPTION:Zum ersten Mal eigenes Geld zu verdienen und nicht mehr nur aufs Taschengeld angewiesen zu sein – das fühlt sich richtig gut an. Leider vergeht das gute Gefühl oft\, wenn man merkt\, wie teuer das Leben eigentlich ist. Das kann ganz schön frustrierend sein\, wenn man sich eigentlich viele coole Dinge kaufen möchte\, aber das Geld dafür nicht immer ausreicht.\nDeswegen beschäftigen wir uns in diesem Workshop mit den Fragen:\n\nWo kommt das Geld her und wo fließt es hin?\nWas kostet das Leben? Was kommt auf mich zu\, wenn ich nicht mehr zuhause wohne?\n\nDer Workshop richtet sich an Jugendliche\, die in naher Zukunft ihr eigenes Geld verdienen werden oder einfach wissen möchten\, was das Leben so kostet.
URL:https://geldleben.at/workshop/was-kostet-das-leben-fuer-jugendliche-13/
LOCATION:Standort Wien\, Nußdorfer Straße 27\, Wien\, 1090
ATTACH;FMTTYPE=image/png:https://geldleben.at/wp-content/uploads/2024/05/4.png
END:VEVENT
BEGIN:VEVENT
DTSTART;TZID=Europe/Berlin:20250411T090000
DTEND;TZID=Europe/Berlin:20250411T120000
DTSTAMP:20260423T123521
CREATED:20250130T125201Z
LAST-MODIFIED:20250130T125312Z
UID:4937-1744362000-1744372800@geldleben.at
SUMMARY:Offener Workshop und Beratung rund ums Thema Geld
DESCRIPTION:Wie komme ich mit meinem Geld besser aus? Wie erreiche ich finanzielle Ziele? Wie mache ich mich in Zukunft finanziell unabhängiger? \nGeld spielt eine große Rolle in unserem Leben – leider oft auf nicht so angenehme Weise. Wir helfen dabei\, das Bewusstsein für Geld zu schärfen und vermitteln die nötigen Grundlagen\, um gute finanzielle Entscheidungen treffen zu können: Für mehr finanzielle Selbstbestimmung und Unabhängigkeit.
URL:https://geldleben.at/workshop/offener-workshop-und-beratung-rund-ums-thema-geld-6/
LOCATION:Standort Graz\, Sackstraße 36\, Graz\, 8010
END:VEVENT
BEGIN:VEVENT
DTSTART;TZID=Europe/Berlin:20250416T093000
DTEND;TZID=Europe/Berlin:20250416T113000
DTSTAMP:20260423T123521
CREATED:20250130T125410Z
LAST-MODIFIED:20250130T125554Z
UID:4940-1744795800-1744803000@geldleben.at
SUMMARY:Geldbewusste Frauen! Was ist für Frauen im Laufe ihres Geldlebens wichtig?
DESCRIPTION:Wollen Frauen wirklich weniger über Finanzen wissen als Männer? Natürlich nicht! \nDeswegen schauen wir uns gemeinsam an\, worauf Frauen besonders achten sollten: \n\nWelche Geldthemen sind in welcher Lebensphase wichtig?\nWie kann ich meine Selbstwirksamkeit in Bezug auf mein Geldleben stärken?\nWas bedeutet Pensionslücke und Pensionssplitting?\n\n  \nAnmerkung: Dieser Workshop richtet sich ausschließlich an Frauen und weiblich sozialisierte Personen.
URL:https://geldleben.at/workshop/geldbewusste-frauen-was-ist-fuer-frauen-im-laufe-ihres-geldlebens-wichtig-12/
LOCATION:Standort Graz\, Sackstraße 36\, Graz\, 8010
ATTACH;FMTTYPE=image/png:https://geldleben.at/wp-content/uploads/2024/05/7.png
END:VEVENT
BEGIN:VEVENT
DTSTART;TZID=Europe/Berlin:20250417T140000
DTEND;TZID=Europe/Berlin:20250417T160000
DTSTAMP:20260423T123521
CREATED:20250130T125645Z
LAST-MODIFIED:20250130T125832Z
UID:4943-1744898400-1744905600@geldleben.at
SUMMARY:Spielenachmittag Schotterbande
DESCRIPTION:Die SCHOTTERBANDE ist DAS Spiel für den Einstieg ins Geldleben. \nDas kooperative Gesellschaftsspiel für Kinder im Alter zwischen 6 und 10 Jahren fesselt mit einer spannenden Superheld*innen-Geschichte und vermittelt ganz nebenbei wichtige Fertigkeiten im Umgang mit Geld. \nErgänzt wird das Spiel durch ein Begleitheft für Erwachsene mit grundlegenden Informationen zu Finanzkompetenz sowie jeder Menge Ideen für weiterführende Aktivitäten zum Thema Geld.
URL:https://geldleben.at/workshop/spielenachmittag-schotterbande-im-rahmen-des-wienxtra-ferienspiel-4/
LOCATION:Standort Wien\, Nußdorfer Straße 27\, Wien\, 1090
ATTACH;FMTTYPE=image/png:https://geldleben.at/wp-content/uploads/2024/05/5.png
END:VEVENT
BEGIN:VEVENT
DTSTART;TZID=Europe/Berlin:20250422T170000
DTEND;TZID=Europe/Berlin:20250422T190000
DTSTAMP:20260423T123521
CREATED:20250130T130117Z
LAST-MODIFIED:20250130T130208Z
UID:4949-1745341200-1745348400@geldleben.at
SUMMARY:Das Sparbuch hat ausgedient? Wie wir sinnvoll sparen.
DESCRIPTION:Sparen ist immer im Trend – schließlich hat jede*r von uns Wünsche und Träume\, die sich nicht einfach nebenbei bezahlen lassen.  Und um die Altersvorsorge sollten wir uns ja auch noch kümmern. Aber wie spart man am sinnvollsten? Welche Sparformen gibt es überhaupt? Und was sind diese ETFs\, von denen immer alle reden?\nDiesen und weiteren Fragen rund ums Sparen und die Altersvorsorge gehen wir in diesem Workshop auf den Grund.
URL:https://geldleben.at/workshop/das-sparbuch-hat-ausgedient-wie-wir-sinnvoll-sparen-9/
LOCATION:Online-Workshop
ATTACH;FMTTYPE=image/png:https://geldleben.at/wp-content/uploads/2024/05/6.png
END:VEVENT
BEGIN:VEVENT
DTSTART;TZID=Europe/Berlin:20250424T190000
DTEND;TZID=Europe/Berlin:20250424T203000
DTSTAMP:20260423T123521
CREATED:20250130T130321Z
LAST-MODIFIED:20250130T130417Z
UID:4952-1745521200-1745526600@geldleben.at
SUMMARY:Alleinerziehend sein - womit kann ich rechnen?
DESCRIPTION:Die finanziellen Herausforderungen als Alleinerziehende*r können überwältigend sein.   \nIn diesem Workshop geht es darum\, wie du selbstwirksam mit deinem Geld umgehen kannst. Du erhältst einfache Werkzeuge\, um im stressigen Alltag den Überblick zu behalten\, sowie praktische Tipps zum Sparen und Vorsorgen. In einem geschützten Rahmen kannst du dich mit anderen Alleinerziehenden austauschen und Erfahrungen teilen.   \nBitte halte während des Workshops ein Blatt Papier und einen Stift bereit. 
URL:https://geldleben.at/workshop/alleinerziehend-sein-womit-kann-ich-rechnen-3/
LOCATION:Online-Workshop
ATTACH;FMTTYPE=image/png:https://geldleben.at/wp-content/uploads/2024/05/8.png
END:VEVENT
BEGIN:VEVENT
DTSTART;TZID=Europe/Berlin:20250429T170000
DTEND;TZID=Europe/Berlin:20250429T183000
DTSTAMP:20260423T123521
CREATED:20250410T080207Z
LAST-MODIFIED:20250410T082355Z
UID:5367-1745946000-1745951400@geldleben.at
SUMMARY:Arbeitnehmer*innenveranlagung - Was ist das und wie geht das?
DESCRIPTION:Lohnsteuerausgleich\, Steuererklärung\, Arbeitnehmer*innenveranlagung – so viele verschiedene Namen\, aber immer das gleiche Ziel: Das zu viel bezahlte Geld vom Finanzamt zurückholen! \nDas Online-Seminar gibt eine Antwort auf folgenden Fragen: \n\nWarum gibt es überhaupt eine Arbeitnehmer*innenveranlagung?\nWer kann/muss/soll überhaupt eine Steuererklärung einreichen?\nWelche Ausgaben und Kosten kann ich absetzen?\nWie kann ich meinen Steuerausgleich durchführen und mir mein Geld zurückholen?
URL:https://geldleben.at/workshop/steuerausgleich-online-workshop/
LOCATION:Online-Workshop
ATTACH;FMTTYPE=image/png:https://geldleben.at/wp-content/uploads/2024/05/Arbeitnehmerinnenveranlagung-–-Was-ist-das-und-wie-geht-das-3.png
END:VEVENT
END:VCALENDAR