BEGIN:VCALENDAR
VERSION:2.0
PRODID:-//Geldleben - ECPv6.15.18//NONSGML v1.0//EN
CALSCALE:GREGORIAN
METHOD:PUBLISH
X-WR-CALNAME:Geldleben
X-ORIGINAL-URL:https://geldleben.at
X-WR-CALDESC:Veranstaltungen für Geldleben
REFRESH-INTERVAL;VALUE=DURATION:PT1H
X-Robots-Tag:noindex
X-PUBLISHED-TTL:PT1H
BEGIN:VTIMEZONE
TZID:Europe/Berlin
BEGIN:DAYLIGHT
TZOFFSETFROM:+0100
TZOFFSETTO:+0200
TZNAME:CEST
DTSTART:20240331T010000
END:DAYLIGHT
BEGIN:STANDARD
TZOFFSETFROM:+0200
TZOFFSETTO:+0100
TZNAME:CET
DTSTART:20241027T010000
END:STANDARD
BEGIN:DAYLIGHT
TZOFFSETFROM:+0100
TZOFFSETTO:+0200
TZNAME:CEST
DTSTART:20250330T010000
END:DAYLIGHT
BEGIN:STANDARD
TZOFFSETFROM:+0200
TZOFFSETTO:+0100
TZNAME:CET
DTSTART:20251026T010000
END:STANDARD
BEGIN:DAYLIGHT
TZOFFSETFROM:+0100
TZOFFSETTO:+0200
TZNAME:CEST
DTSTART:20260329T010000
END:DAYLIGHT
BEGIN:STANDARD
TZOFFSETFROM:+0200
TZOFFSETTO:+0100
TZNAME:CET
DTSTART:20261025T010000
END:STANDARD
END:VTIMEZONE
BEGIN:VTIMEZONE
TZID:Europe/Helsinki
BEGIN:DAYLIGHT
TZOFFSETFROM:+0200
TZOFFSETTO:+0300
TZNAME:EEST
DTSTART:20240331T010000
END:DAYLIGHT
BEGIN:STANDARD
TZOFFSETFROM:+0300
TZOFFSETTO:+0200
TZNAME:EET
DTSTART:20241027T010000
END:STANDARD
BEGIN:DAYLIGHT
TZOFFSETFROM:+0200
TZOFFSETTO:+0300
TZNAME:EEST
DTSTART:20250330T010000
END:DAYLIGHT
BEGIN:STANDARD
TZOFFSETFROM:+0300
TZOFFSETTO:+0200
TZNAME:EET
DTSTART:20251026T010000
END:STANDARD
BEGIN:DAYLIGHT
TZOFFSETFROM:+0200
TZOFFSETTO:+0300
TZNAME:EEST
DTSTART:20260329T010000
END:DAYLIGHT
BEGIN:STANDARD
TZOFFSETFROM:+0300
TZOFFSETTO:+0200
TZNAME:EET
DTSTART:20261025T010000
END:STANDARD
END:VTIMEZONE
BEGIN:VEVENT
DTSTART;TZID=Europe/Berlin:20250508T180000
DTEND;TZID=Europe/Berlin:20250508T200000
DTSTAMP:20260423T140201
CREATED:20250410T082837Z
LAST-MODIFIED:20250410T082837Z
UID:5370-1746727200-1746734400@geldleben.at
SUMMARY:Das Sparbuch hat ausgedient? Wie wir sinnvoll sparen
DESCRIPTION:Sparen ist immer im Trend – schließlich hat jede*r von uns Wünsche und Träume\, die sich nicht einfach nebenbei bezahlen lassen.  Und um die Altersvorsorge sollten wir uns ja auch noch kümmern. Aber wie spart man am sinnvollsten? Welche Sparformen gibt es überhaupt? Und was sind diese ETFs\, von denen immer alle reden?\nDiesen und weiteren Fragen rund ums Sparen und die Altersvorsorge gehen wir in diesem Workshop auf den Grund.
URL:https://geldleben.at/workshop/das-sparbuch-hat-ausgedient-wie-wir-sinnvoll-sparen-10/
ATTACH;FMTTYPE=image/png:https://geldleben.at/wp-content/uploads/2024/05/6.png
END:VEVENT
BEGIN:VEVENT
DTSTART;TZID=Europe/Helsinki:20250508T180000
DTEND;TZID=Europe/Helsinki:20250508T210000
DTSTAMP:20260423T140201
CREATED:20250410T085808Z
LAST-MODIFIED:20250506T111531Z
UID:5379-1746727200-1746738000@geldleben.at
SUMMARY:Meins\, deins\, unseres: Was Paare über Geld wissen müssen
DESCRIPTION:Offen über Geld reden? Gar nicht so einfach – auch in der Partnerschaft. Wenn dann noch Kinder dazu kommen\, wird ein ehrliches Gespräch über Finanzen um so wichtiger. In unserem kostenlosen Online-Workshop werfen wir einen Blick darauf\, wie wir einen bewussten Umgang mit Geld in der Partnerschaft gestalten können. \nEin Workshop für Frauen*\, Partner:innen und Paare. \nEine Veranstaltung in Kooperation mit Frauen* im Brennpunkt. Anmeldung hier: Online-Workshops – Frauen* im Brennpunkt
URL:https://geldleben.at/workshop/geld-in-der-partnerschaft-workshop/
END:VEVENT
BEGIN:VEVENT
DTSTART;TZID=Europe/Berlin:20250512T170000
DTEND;TZID=Europe/Berlin:20250512T180000
DTSTAMP:20260423T140201
CREATED:20250410T083107Z
LAST-MODIFIED:20250410T083910Z
UID:5373-1747069200-1747072800@geldleben.at
SUMMARY:Zu viel Monat am Ende des Geldes
DESCRIPTION:Wer kennt das nicht? Das Geld am Konto ist beinahe verbraucht\, doch wir schreiben erst Mitte des Monats. Wir möchten dir praktische Tipps und einfache Werkzeuge für deinen Alltag mitgeben\, mit denen es dir gelingt\, bessere finanzielle Entscheidungen zu treffen und ein gutes Geldleben zu führen. \nIm Rahmen des Workshops beschäftigen uns konkret mit folgenden Fragen: \n\nWie behalte ich einfach und effizient den Überblick über meine Einnahmen und Ausgaben?\nWie kann ich schnell und unkompliziert meine Einnahmen erhöhen und meine Ausgaben reduzieren?\nWie kann ich bei meiner Budgetplanung für unerwartete Ausgaben gut vorsorgen?\n\nDie Inhalte werden mit praktischen Übungen und interaktiven Methoden vermittelt\, sodass diese nach dem Workshop direkt im Alltag anwendbar sind.
URL:https://geldleben.at/workshop/budgetplanung-workshop/
LOCATION:Online-Workshop
ATTACH;FMTTYPE=image/png:https://geldleben.at/wp-content/uploads/2024/05/Icons-Workshopprogramm-Website.png
END:VEVENT
BEGIN:VEVENT
DTSTART;TZID=Europe/Berlin:20250513T183000
DTEND;TZID=Europe/Berlin:20250513T190000
DTSTAMP:20260423T140201
CREATED:20250410T085129Z
LAST-MODIFIED:20250410T085129Z
UID:5376-1747161000-1747162800@geldleben.at
SUMMARY:Geldbewusste Frauen! Was ist für Frauen im Laufe ihres Geldlebens wichtig?
DESCRIPTION:Wollen Frauen wirklich weniger über Finanzen wissen als Männer? Natürlich nicht! \nDeswegen schauen wir uns gemeinsam an\, worauf Frauen besonders achten sollten: \n\nWelche Geldthemen sind in welcher Lebensphase wichtig?\nWie kann ich meine Selbstwirksamkeit in Bezug auf mein Geldleben stärken?\nWas bedeutet Pensionslücke und Pensionssplitting?\n\n  \nAnmerkung: Dieser Workshop richtet sich ausschließlich an Frauen und weiblich sozialisierte Personen.
URL:https://geldleben.at/workshop/geldbewusste-frauen-was-ist-fuer-frauen-im-laufe-ihres-geldlebens-wichtig-13/
ATTACH;FMTTYPE=image/png:https://geldleben.at/wp-content/uploads/2024/05/7.png
END:VEVENT
BEGIN:VEVENT
DTSTART;TZID=Europe/Berlin:20250521T130000
DTEND;TZID=Europe/Berlin:20250521T150000
DTSTAMP:20260423T140201
CREATED:20250410T090448Z
LAST-MODIFIED:20250410T094723Z
UID:5383-1747832400-1747839600@geldleben.at
SUMMARY:Geldbewusste Frauen! Was ist für Frauen im Laufe ihres Geldlebens wichtig?
DESCRIPTION:Wollen Frauen wirklich weniger über Finanzen wissen als Männer? Natürlich nicht! \nDeswegen schauen wir uns gemeinsam an\, worauf Frauen besonders achten sollten: \n\nWelche Geldthemen sind in welcher Lebensphase wichtig?\nWie kann ich meine Selbstwirksamkeit in Bezug auf mein Geldleben stärken?\nWas bedeutet Pensionslücke und Pensionssplitting?\n\n  \nAnmerkung: Dieser Workshop richtet sich ausschließlich an Frauen und weiblich sozialisierte Personen.
URL:https://geldleben.at/workshop/geldbewusste-frauen-was-ist-fuer-frauen-im-laufe-ihres-geldlebens-wichtig-14/
LOCATION:Standort Graz\, Sackstraße 36\, Graz\, 8010
ATTACH;FMTTYPE=image/png:https://geldleben.at/wp-content/uploads/2024/05/7.png
END:VEVENT
BEGIN:VEVENT
DTSTART;TZID=Europe/Berlin:20250522T190000
DTEND;TZID=Europe/Berlin:20250522T200000
DTSTAMP:20260423T140201
CREATED:20250410T094948Z
LAST-MODIFIED:20250507T095746Z
UID:5386-1747940400-1747944000@geldleben.at
SUMMARY:Mit Kindern über Geld sprechen
DESCRIPTION:Die meisten Menschen lernen den Umgang mit Geld – wenn überhaupt – in der Familie. In diesem Seminar beschäftigen wir uns daher damit\, welche Fertigkeiten für Finanzkompetenz wichtig sind\, wie man sie im Alltag vermittelt und gehen speziell auf das Thema Taschengeld ein. \nDieses Online-Seminar richtet sich v.a. an Eltern oder Bezugspersonen von Kindern zwischen 3 und 10 Jahren.
URL:https://geldleben.at/workshop/mit-kindern-ueber-geld-sprechen-7/
LOCATION:Online-Workshop
ATTACH;FMTTYPE=image/png:https://geldleben.at/wp-content/uploads/2024/05/8.png
END:VEVENT
BEGIN:VEVENT
DTSTART;TZID=Europe/Berlin:20250523T090000
DTEND;TZID=Europe/Berlin:20250523T160000
DTSTAMP:20260423T140201
CREATED:20250325T135209Z
LAST-MODIFIED:20250513T073021Z
UID:5316-1747990800-1748016000@geldleben.at
SUMMARY:Finanzbildung für die Praxis - Grundlagen für Multiplikator*innen
DESCRIPTION:Ziel des Workshops ist es\, eure Finanzkompetenz zu stärken\, damit ihr Frauen nachhaltig bei allen Fragen und Anliegen rund um das Thema Geld beraten und unterstützen könnt. \nDer Fokus des Workshops liegt auf der Vermittlung von Wissen zur grundlegenden Finanzbildung gepaart mit praktischen Tipps und alltagstauglichen Fertigkeiten für den Umgang mit Geld. Dabei werden wichtige Themen wie Einnahmen/Ausgaben und Budgetoptimierung behandelt\, ebenso wie das Setzen finanzieller Ziele und Sparstrategien – vom Notgroschen\, über den Kapitalmarkt bis zur Pensionsvorsorge. Entlang der Lebensphasen werden finanzielle Herausforderungen für Frauen thematisiert und Lösungsansätze vorgestellt. \nDamit ihr die Inhalte in eurer täglichen Arbeit wirkungsvoll vermitteln könnt\, werden didaktische\, pädagogische und psychosoziale Werkzeuge sowie Methoden vorgestellt und ausprobiert. Besonderer Schwerpunkt wird zudem auf den Austausch und die Diskussion mit anderen Multiplikator*innen gelegt. \n  \nHinweis: Workshop nur für Berater*innen! \n  \nBitte meldet euch über diesen Link an.
URL:https://geldleben.at/workshop/finanzbildung-fuer-die-praxis-grundlagen-fuer-multiplikatorinnen/
LOCATION:Online-Workshop
ATTACH;FMTTYPE=image/png:https://geldleben.at/wp-content/uploads/2025/03/gruppe-flipchart-geld-mittel@0.5x.png
END:VEVENT
BEGIN:VEVENT
DTSTART;TZID=Europe/Berlin:20250526T180000
DTEND;TZID=Europe/Berlin:20250526T190000
DTSTAMP:20260423T140201
CREATED:20250410T100742Z
LAST-MODIFIED:20250410T100940Z
UID:5391-1748282400-1748286000@geldleben.at
SUMMARY:Das liebe Geld
DESCRIPTION:Für viele Menschen ist das Thema Geld eine starke Belastung. \nWir bieten einen sicheren Rahmen\, sich mit anderen auszutauschen\, denen es ähnlich geht\, sich dabei gegenseitig zu stärken und gleichzeitig von den Erfahrungen und Lösungsansätzen anderer zu profitieren. \nDieses Angebot richtet sich an alle\, die das Thema Geld mit Stress und Sorgen verbinden.
URL:https://geldleben.at/workshop/das-liebe-geld-7/
LOCATION:Standort Wien\, Nußdorfer Straße 27\, Wien\, 1090
ATTACH;FMTTYPE=image/png:https://geldleben.at/wp-content/uploads/2024/07/Icons-Workshopprogramm-Website-1.png
END:VEVENT
END:VCALENDAR