BEGIN:VCALENDAR
VERSION:2.0
PRODID:-//Geldleben - ECPv6.15.18//NONSGML v1.0//EN
CALSCALE:GREGORIAN
METHOD:PUBLISH
X-ORIGINAL-URL:https://geldleben.at
X-WR-CALDESC:Veranstaltungen für Geldleben
REFRESH-INTERVAL;VALUE=DURATION:PT1H
X-Robots-Tag:noindex
X-PUBLISHED-TTL:PT1H
BEGIN:VTIMEZONE
TZID:Europe/Berlin
BEGIN:DAYLIGHT
TZOFFSETFROM:+0100
TZOFFSETTO:+0200
TZNAME:CEST
DTSTART:20240331T010000
END:DAYLIGHT
BEGIN:STANDARD
TZOFFSETFROM:+0200
TZOFFSETTO:+0100
TZNAME:CET
DTSTART:20241027T010000
END:STANDARD
BEGIN:DAYLIGHT
TZOFFSETFROM:+0100
TZOFFSETTO:+0200
TZNAME:CEST
DTSTART:20250330T010000
END:DAYLIGHT
BEGIN:STANDARD
TZOFFSETFROM:+0200
TZOFFSETTO:+0100
TZNAME:CET
DTSTART:20251026T010000
END:STANDARD
BEGIN:DAYLIGHT
TZOFFSETFROM:+0100
TZOFFSETTO:+0200
TZNAME:CEST
DTSTART:20260329T010000
END:DAYLIGHT
BEGIN:STANDARD
TZOFFSETFROM:+0200
TZOFFSETTO:+0100
TZNAME:CET
DTSTART:20261025T010000
END:STANDARD
END:VTIMEZONE
BEGIN:VTIMEZONE
TZID:Europe/Helsinki
BEGIN:DAYLIGHT
TZOFFSETFROM:+0200
TZOFFSETTO:+0300
TZNAME:EEST
DTSTART:20240331T010000
END:DAYLIGHT
BEGIN:STANDARD
TZOFFSETFROM:+0300
TZOFFSETTO:+0200
TZNAME:EET
DTSTART:20241027T010000
END:STANDARD
BEGIN:DAYLIGHT
TZOFFSETFROM:+0200
TZOFFSETTO:+0300
TZNAME:EEST
DTSTART:20250330T010000
END:DAYLIGHT
BEGIN:STANDARD
TZOFFSETFROM:+0300
TZOFFSETTO:+0200
TZNAME:EET
DTSTART:20251026T010000
END:STANDARD
BEGIN:DAYLIGHT
TZOFFSETFROM:+0200
TZOFFSETTO:+0300
TZNAME:EEST
DTSTART:20260329T010000
END:DAYLIGHT
BEGIN:STANDARD
TZOFFSETFROM:+0300
TZOFFSETTO:+0200
TZNAME:EET
DTSTART:20261025T010000
END:STANDARD
END:VTIMEZONE
BEGIN:VEVENT
DTSTART;TZID=Europe/Berlin:20250602T090000
DTEND;TZID=Europe/Berlin:20250602T123000
DTSTAMP:20260423T155736
CREATED:20250410T101125Z
LAST-MODIFIED:20250410T101125Z
UID:5394-1748854800-1748867400@geldleben.at
SUMMARY:Zu viel Monat am Ende des Geldes
DESCRIPTION:Wer kennt das nicht? Das Geld am Konto ist beinahe verbraucht\, doch wir schreiben erst Mitte des Monats. Wir möchten dir praktische Tipps und einfache Werkzeuge für deinen Alltag mitgeben\, mit denen es dir gelingt\, bessere finanzielle Entscheidungen zu treffen und ein gutes Geldleben zu führen. \nIm Rahmen des Workshops beschäftigen uns konkret mit folgenden Fragen: \n\nWie behalte ich einfach und effizient den Überblick über meine Einnahmen und Ausgaben?\nWie kann ich schnell und unkompliziert meine Einnahmen erhöhen und meine Ausgaben reduzieren?\nWie kann ich bei meiner Budgetplanung für unerwartete Ausgaben gut vorsorgen?\n\nDie Inhalte werden mit praktischen Übungen und interaktiven Methoden vermittelt\, sodass diese nach dem Workshop direkt im Alltag anwendbar sind.
URL:https://geldleben.at/workshop/zu-viel-monat-am-ende-des-geldes-11/
ATTACH;FMTTYPE=image/png:https://geldleben.at/wp-content/uploads/2024/05/Icons-Workshopprogramm-Website.png
END:VEVENT
BEGIN:VEVENT
DTSTART;TZID=Europe/Berlin:20250603T170000
DTEND;TZID=Europe/Berlin:20250603T190000
DTSTAMP:20260423T155736
CREATED:20250410T101836Z
LAST-MODIFIED:20250410T102047Z
UID:5397-1748970000-1748977200@geldleben.at
SUMMARY:Das Sparbuch hat ausgedient? Wie wir sinnvoll sparen
DESCRIPTION:Sparen ist immer im Trend – schließlich hat jede*r von uns Wünsche und Träume\, die sich nicht einfach nebenbei bezahlen lassen. Und um die Altersvorsorge sollten wir uns ja auch noch kümmern. Aber wie spart man am sinnvollsten? Welche Sparformen gibt es überhaupt? Und was sind diese ETFs\, von denen immer alle reden?\nDiesen und weiteren Fragen rund ums Sparen und die Altersvorsorge gehen wir in diesem Workshop auf den Grund.
URL:https://geldleben.at/workshop/das-sparbuch-hat-ausgedient-wie-wir-sinnvoll-sparen-11/
LOCATION:Online-Workshop
ATTACH;FMTTYPE=image/png:https://geldleben.at/wp-content/uploads/2024/05/6.png
END:VEVENT
BEGIN:VEVENT
DTSTART;TZID=Europe/Berlin:20250612T093000
DTEND;TZID=Europe/Berlin:20250612T113000
DTSTAMP:20260423T155736
CREATED:20250410T102357Z
LAST-MODIFIED:20250410T102439Z
UID:5401-1749720600-1749727800@geldleben.at
SUMMARY:Geldbewusste Frauen! Was ist für Frauen im Laufe ihres Geldlebens wichtig?
DESCRIPTION:Wollen Frauen wirklich weniger über Finanzen wissen als Männer? Natürlich nicht! \nDeswegen schauen wir uns gemeinsam an\, worauf Frauen besonders achten sollten: \n\nWelche Geldthemen sind in welcher Lebensphase wichtig?\nWie kann ich meine Selbstwirksamkeit in Bezug auf mein Geldleben stärken?\nWas bedeutet Pensionslücke und Pensionssplitting?\n\n  \nAnmerkung: Dieser Workshop richtet sich ausschließlich an Frauen und weiblich sozialisierte Personen.
URL:https://geldleben.at/workshop/geldbewusste-frauen-was-ist-fuer-frauen-im-laufe-ihres-geldlebens-wichtig-15/
LOCATION:Standort Wien\, Nußdorfer Straße 27\, Wien\, 1090
ATTACH;FMTTYPE=image/png:https://geldleben.at/wp-content/uploads/2024/05/7.png
END:VEVENT
BEGIN:VEVENT
DTSTART;TZID=Europe/Berlin:20250616T090000
DTEND;TZID=Europe/Berlin:20250616T160000
DTSTAMP:20260423T155736
CREATED:20250325T135331Z
LAST-MODIFIED:20250513T072539Z
UID:5319-1750064400-1750089600@geldleben.at
SUMMARY:Finanzbildung für die Praxis - Grundlagen für Multiplikator*innen
DESCRIPTION:Ziel des Workshops ist es\, eure Finanzkompetenz zu stärken\, damit ihr Frauen nachhaltig bei allen Fragen und Anliegen rund um das Thema Geld beraten und unterstützen könnt. \nDer Fokus des Workshops liegt auf der Vermittlung von Wissen zur grundlegenden Finanzbildung gepaart mit praktischen Tipps und alltagstauglichen Fertigkeiten für den Umgang mit Geld. Dabei werden wichtige Themen wie Einnahmen/Ausgaben und Budgetoptimierung behandelt\, ebenso wie das Setzen finanzieller Ziele und Sparstrategien – vom Notgroschen\, über den Kapitalmarkt bis zur Pensionsvorsorge. Entlang der Lebensphasen werden finanzielle Herausforderungen für Frauen thematisiert und Lösungsansätze vorgestellt. \nDamit ihr die Inhalte in eurer täglichen Arbeit wirkungsvoll vermitteln könnt\, werden didaktische\, pädagogische und psychosoziale Werkzeuge sowie Methoden vorgestellt und ausprobiert. Besonderer Schwerpunkt wird zudem auf den Austausch und die Diskussion mit anderen Multiplikator*innen gelegt. \n  \nHinweis: Workshop nur für Berater*innen! \n  \nBitte meldet euch über diesen Link an.
URL:https://geldleben.at/workshop/finanzbildung-fuer-die-praxis-grundlagen-fuer-multiplikatorinnen-2/
LOCATION:Online-Workshop
ATTACH;FMTTYPE=image/png:https://geldleben.at/wp-content/uploads/2025/03/gruppe-flipchart-geld-mittel@0.5x.png
END:VEVENT
BEGIN:VEVENT
DTSTART;TZID=Europe/Berlin:20250617T170000
DTEND;TZID=Europe/Berlin:20250617T183000
DTSTAMP:20260423T155736
CREATED:20250410T102725Z
LAST-MODIFIED:20250410T103737Z
UID:5404-1750179600-1750185000@geldleben.at
SUMMARY:Geldbewusste Frauen! Was ist für Frauen im Laufe ihres Geldlebens wichtig?
DESCRIPTION:Wollen Frauen wirklich weniger über Finanzen wissen als Männer? Natürlich nicht! \nDeswegen schauen wir uns gemeinsam an\, worauf Frauen besonders achten sollten: \n\nWelche Geldthemen sind in welcher Lebensphase wichtig?\nWie kann ich meine Selbstwirksamkeit in Bezug auf mein Geldleben stärken?\nWas bedeutet Pensionslücke und Pensionssplitting?\n\n  \nAnmerkung: Dieser Workshop richtet sich ausschließlich an Frauen und weiblich sozialisierte Personen.
URL:https://geldleben.at/workshop/geldbewusste-frauen-was-ist-fuer-frauen-im-laufe-ihres-geldlebens-wichtig-16/
LOCATION:Online-Workshop
ATTACH;FMTTYPE=image/png:https://geldleben.at/wp-content/uploads/2024/05/7.png
END:VEVENT
BEGIN:VEVENT
DTSTART;TZID=Europe/Berlin:20250624T130000
DTEND;TZID=Europe/Berlin:20250624T160000
DTSTAMP:20260423T155736
CREATED:20250528T071823Z
LAST-MODIFIED:20250528T071823Z
UID:5529-1750770000-1750780800@geldleben.at
SUMMARY:"Reich werden über Nacht - Geldversprechen und andere Fakes" im Rahmen des Bildungsgrätzl-Fest Wien 1090 Alsergrund
DESCRIPTION:In kurzer Zeit zum schnellen Geld – warum nicht? Überall auf Social Media tauchen verlockende Angebote auf: „Werde reich über Nacht!“\, „Passives Einkommen ohne Aufwand!“ oder „100 % sichere Investition mit garantierter Rendite!“ Doch was steckt wirklich hinter diesen Versprechen? Wer profitiert tatsächlich davon – und wer bleibt am Ende auf der Strecke? \nIn unserem interaktiven Online-Workshop nehmen wir genau diese Themen unter die Lupe. Wir hinterfragen große Geldversprechen\, analysieren Strategien von Influencern und prüfen\, ob sich hinter vermeintlich einfachen Wegen zum Reichtum möglicherweise versteckte Risiken oder sogar Betrug verbergen. Gemeinsam decken wir Dark Patterns auf\, also manipulative Design-Tricks\, die uns beim Online-Shopping zu ungewollten Käufen verleiten. Außerdem lernen wir\, Fake Shops zu entlarven\, uns vor Abzocke zu schützen und mit gesundem Misstrauen durch die digitale Finanzwelt zu navigieren. Natürlich gibt es auch Raum für eure eigenen Fragen rund ums Thema Geld und Online-Finanzen. \nUnser Workshop findet im Rahmen des Bildungsgrätzl-Fest Wien 1090 Alsergrund statt – ein lokal verankertes Netzwerk aus Bildungseinrichtungen\, Freizeitangeboten und Beratungsstellen\, das gemeinsam in einem Stadtteil aktiv ist. Die Zusammenarbeit erfolgt freiwillig und selbstorganisiert. Ziel ist es\, Menschen vor Ort – insbesondere Kinder und Jugendliche – mit vielfältigen Angeboten im direkten Lebensumfeld zu unterstützen\, um Bildungschancen zu verbessern und soziale Ungleichheiten abzubauen. \nMacht mit und werdet fit für den sicheren Umgang mit Geld in der digitalen Welt! 🚀💰 \n Keine Anmeldung erforderlich! Kommt einfach an unserem Stand vorbei. Wir freuen uns! Adresse: „Spielstraße“ in der Glasergasse 1090.
URL:https://geldleben.at/workshop/reich-werden-ueber-nacht-geldversprechen-und-andere-fakes-im-rahmen-des-bildungsgraetzl-fest-wien-1090-alsergrund/
LOCATION:Galsergasse 1090 Wien\, Galsergasse\, WIen\, Wien\, 1090\, Austria
ATTACH;FMTTYPE=image/png:https://geldleben.at/wp-content/uploads/2025/02/Ausgeben@2x.png
END:VEVENT
BEGIN:VEVENT
DTSTART;TZID=Europe/Helsinki:20250626T180000
DTEND;TZID=Europe/Helsinki:20250626T210000
DTSTAMP:20260423T155736
CREATED:20250410T085907Z
LAST-MODIFIED:20250506T111416Z
UID:5381-1750960800-1750971600@geldleben.at
SUMMARY:Meins\, deins\, unseres: Was Paare über Geld wissen müssen
DESCRIPTION:Offen über Geld reden? Gar nicht so einfach – auch in der Partnerschaft. Wenn dann noch Kinder dazu kommen\, wird ein ehrliches Gespräch über Finanzen um so wichtiger. In unserem kostenlosen Online-Workshop werfen wir einen Blick darauf\, wie wir einen bewussten Umgang mit Geld in der Partnerschaft gestalten können. \nEin Workshop für Frauen*\, Partner:innen und Paare. \nEine Veranstaltung in Kooperation mit Frauen* im Brennpunkt. Anmeldung hier: Online-Workshops – Frauen* im Brennpunkt
URL:https://geldleben.at/workshop/meins-deins-unseres-was-paare-ueber-geld-wissen-muessen/
LOCATION:Online-Workshop
END:VEVENT
END:VCALENDAR